BEGIN:VCALENDAR
VERSION:2.0
PRODID:-//ChamberMaster//Event Calendar 2.0//EN
METHOD:PUBLISH
X-PUBLISHED-TTL:P3D
REFRESH-INTERVAL:P3D
CALSCALE:GREGORIAN
BEGIN:VEVENT
DTSTART:20260510T140000Z
DTEND:20260510T180000Z
X-MICROSOFT-CDO-ALLDAYEVENT:FALSE
SUMMARY:Mother’s Day Brunch at Jumpin’ Jay’s Fish Cafe
DESCRIPTION:Join us for Mother's Day brunch at Jumpin' Jay's Fish Cafe in downtown Portsmouth on Sunday\, May 10 from 10:00am 2:00pm.\n\nJumpin' Jay's opens specially for holiday brunch\, making it one of the few chances each year to enjoy a full seafood-forward brunch menu alongside raw bar selections and seasonal specials.\n\nGuests can expect dishes like crab cake benedict\, lobster rolls\, Belgian waffles with Maine blueberry compote\, and eggs & hash with house-cured corned beef\, along with brunch cocktails including the Seafaring Mary and Passionfruit Bellini.\n\nThe restaurant will reopen for dinner service from 5:00pm 9:00pm.\n\nReservations are recommended\, especially for mid-morning seating and larger parties. Walk-ins welcome as space allows.
X-ALT-DESC;FMTTYPE=text/html:<p>Join us for Mother&rsquo\;s Day brunch at Jumpin&rsquo\; Jay&rsquo\;s Fish Cafe in downtown Portsmouth on Sunday\, May 10 from 10:00am&ndash\;2:00pm.</p>\n\n<p>Jumpin&rsquo\; Jay&rsquo\;s opens specially for holiday brunch\, making it one of the few chances each year to enjoy a full seafood-forward brunch menu alongside raw bar selections and seasonal specials.</p>\n\n<p>Guests can expect dishes like crab cake benedict\, lobster rolls\, Belgian waffles with Maine blueberry compote\, and eggs &amp\; hash with house-cured corned beef\, along with brunch cocktails including the Seafaring Mary and Passionfruit Bellini.</p>\n\n<p>The restaurant will reopen for dinner service from 5:00pm&ndash\;9:00pm.</p>\n\n<p>Reservations are recommended\, especially for mid-morning seating and larger parties. Walk-ins welcome as space allows.</p>\n
LOCATION:Jumpin' Jay's Fish Cafe 150 Congress Street Portsmouth\, NH
UID:e.1659.91672
SEQUENCE:3
DTSTAMP:20260425T025907Z
URL:http://business.portsmouthchamber.org/events/details/mother-s-day-brunch-at-jumpin-jay-s-fish-cafe-05-10-2026-91672
END:VEVENT

END:VCALENDAR
