BEGIN:VCALENDAR
VERSION:2.0
PRODID:-//ChamberMaster//Event Calendar 2.0//EN
METHOD:PUBLISH
X-PUBLISHED-TTL:P3D
REFRESH-INTERVAL:P3D
CALSCALE:GREGORIAN
BEGIN:VEVENT
DTSTART;VALUE=DATE:20170624
DTEND;VALUE=DATE:20170625
TRANSP:TRANSPARENT
X-MICROSOFT-CDO-ALLDAYEVENT:TRUE
SUMMARY:17th Annual Hampton Beach Master Sand Sculpting Classic
DESCRIPTION:The fun starts Wednesday\, June 14th\, 2017 when 200 tons of imported sand is dropped on Hampton Beach and the "Grady Bunch" starts pounding up the sponsor site. The entire area is illuminated for night viewing through June 28th.
X-ALT-DESC;FMTTYPE=text/html:The fun starts Wednesday\, June 14th\, 2017 when 200 tons of imported sand is dropped on Hampton Beach and the &ldquo\;Grady Bunch&rdquo\; starts pounding up the sponsor site. The entire area is illuminated for night viewing through June 28th.
LOCATION:Hampton Beach Hampton\, NH
UID:e.1659.31807
SEQUENCE:3
DTSTAMP:20260421T120953Z
URL:https://business.portsmouthchamber.org/events/details/17th-annual-hampton-beach-master-sand-sculpting-classic-06-24-2017-31807
END:VEVENT

END:VCALENDAR
