BEGIN:VCALENDAR
VERSION:2.0
PRODID:-//ChamberMaster//Event Calendar 2.0//EN
METHOD:PUBLISH
X-PUBLISHED-TTL:P3D
REFRESH-INTERVAL:P3D
CALSCALE:GREGORIAN
BEGIN:VEVENT
DTSTART;VALUE=DATE:20140601
DTEND;VALUE=DATE:20140701
TRANSP:TRANSPARENT
X-MICROSOFT-CDO-ALLDAYEVENT:TRUE
SUMMARY:20% off Massage
DESCRIPTION:20% Off Massages in June! The Seacoast Spine & Sports Injuries Clinic welcomes a new addition to the team\, Emily Eames\, LMT! Get 20% off massages when you schedule an appointment with Emily for the entire month of June! Call 603-431-4200 or email kbetts@seacoastsportsinjuries.com for more info. Help us welcome her to the team and book your massage today!
X-ALT-DESC;FMTTYPE=text/html:20% Off Massages in June! The Seacoast Spine &amp\; Sports Injuries Clinic welcomes a new addition to the team\, Emily Eames\, LMT! Get 20% off massages when you schedule an appointment with Emily for the entire month of June! Call 603-431-4200 or email kbetts@seacoastsportsinjuries.com for more info. Help us welcome her to the team and book your massage today!
LOCATION:The Seacoast Spine & Sports Injuries Clinic. 12 Portwalk Place. Portsmouth\, NH 03801
UID:e.1659.2107
SEQUENCE:3
DTSTAMP:20260419T200639Z
URL:https://business.portsmouthchamber.org/events/details/20-off-massage-06-01-2014-2107
END:VEVENT

END:VCALENDAR
