BEGIN:VCALENDAR
VERSION:2.0
PRODID:-//ChamberMaster//Event Calendar 2.0//EN
METHOD:PUBLISH
X-PUBLISHED-TTL:P3D
REFRESH-INTERVAL:P3D
CALSCALE:GREGORIAN
BEGIN:VEVENT
DTSTART:20140607T163000Z
DTEND:20140607T203000Z
X-MICROSOFT-CDO-ALLDAYEVENT:FALSE
SUMMARY:2014 Our Old House Festival
DESCRIPTION:This year's Our Old House Festival celebrates the Moffatt-Ladd Garden wth special presentations and activites for all ages. Visitors at this FREE festival also will have the opportunity to take self-guided tours of the house and speak with experts in the fields of decorative arts\, art conservation and historic preservation.*\n\n\n\n*4:30 pm: FREE Concert by "Two Old Friends" in the Warehouse
X-ALT-DESC;FMTTYPE=text/html:This year&#39\;s Our Old House Festival celebrates the Moffatt-Ladd Garden wth special presentations and activites for all ages. Visitors at this FREE festival also will have the opportunity to take self-guided tours of the house and speak with experts in the fields of decorative arts\, art conservation and historic preservation.*<br />\n<br />\n*4:30 pm: FREE Concert by &quot\;Two Old Friends&quot\; in the Warehouse
LOCATION:
UID:e.1659.1653
SEQUENCE:3
DTSTAMP:20260419T202939Z
URL:https://business.portsmouthchamber.org/events/details/2014-our-old-house-festival-06-07-2014-1653
END:VEVENT

END:VCALENDAR
