BEGIN:VCALENDAR
VERSION:2.0
PRODID:-//ChamberMaster//Event Calendar 2.0//EN
METHOD:PUBLISH
X-PUBLISHED-TTL:P3D
REFRESH-INTERVAL:P3D
CALSCALE:GREGORIAN
BEGIN:VEVENT
DTSTART:20161214T223000Z
DTEND:20161215T003000Z
X-MICROSOFT-CDO-ALLDAYEVENT:FALSE
SUMMARY:2016 Elixir From Ebenezer Presented by Exeter Hospital
DESCRIPTION:Tickets are still available at the door\, please join us!\n\nThe Greater Portsmouth Chamber of Commerce Holiday Party: Elixir From Ebenezer Presented by Exeter Hospital will take place on Wednesday\, December 14 from 5:30 - 7:30pm.  The 2016 event will take place at the Sheraton Portsmouth Harborside Hotel featuring wine tasting\, craft beer\, and delicious culinary treats from the Sheraton.\n\n\n\nVisit the Elixir From Ebenezer webpage for more information.\n\n\n\nDuring the evening the winner of the Broadway Bound NYC Theater Adventure for Two raffle will be drawn.  Learn more about the Broadway Bound Raffle at PortsmouthChamber.org/Broadway.
X-ALT-DESC;FMTTYPE=text/html:<p><strong>Tickets are still available at the door\, please join us!</strong></p>\n\n<p>The Greater Portsmouth Chamber of Commerce Holiday Party: Elixir From Ebenezer Presented by Exeter Hospital will take place on Wednesday\, December 14 from 5:30 - 7:30pm. &nbsp\;The 2016 event will take place at the <a href="/list/member/sheraton-portsmouth-harborside-hotel-portsmouth-589">Sheraton Portsmouth Harborside Hotel</a> featuring wine tasting\, craft beer\, and delicious culinary treats from the Sheraton.<br />\n<br />\n<a href="/elixir">Visit the Elixir From Ebenezer webpage for more information.</a><br />\n<br />\nDuring the evening the winner of the Broadway Bound NYC Theater Adventure for Two raffle will be drawn. &nbsp\;Learn more about the Broadway Bound Raffle at <a href="/Broadway">PortsmouthChamber.org/Broadway</a>.</p>\n
LOCATION:Sheraton Portsmouth Harborside Hotel 250 Market St. Portsmouth\, NH 03801
UID:e.1659.25868
SEQUENCE:3
DTSTAMP:20260421T192525Z
URL:https://business.portsmouthchamber.org/events/details/2016-elixir-from-ebenezer-presented-by-exeter-hospital-25868
END:VEVENT

END:VCALENDAR
