BEGIN:VCALENDAR
VERSION:2.0
PRODID:-//ChamberMaster//Event Calendar 2.0//EN
METHOD:PUBLISH
X-PUBLISHED-TTL:P3D
REFRESH-INTERVAL:P3D
CALSCALE:GREGORIAN
BEGIN:VEVENT
DTSTART:20141122T223000Z
DTEND:20141123T040000Z
X-MICROSOFT-CDO-ALLDAYEVENT:FALSE
SUMMARY:20th Annual Auction of the Animals
DESCRIPTION:The New Hampshire SPCA's 20th Annual Auction for the Animals will be held Saturday\, November 22nd at the beautiful Wentworth by the Sea in Newcastle\, NH. This event helps us continue our lifesaving mission to serve as a safe haven for nearly 2\,500 abandoned\, abused and neglected animals each and every year. All of them need food\, shelter and a warm bed\, and some require extensive medical care and rehabilitation. The event begins at 5:30pm with the silent and super silent auction followed by dinner and the live auction at 7:30pm. You may purchase tickets at www.nhspca.org.
X-ALT-DESC;FMTTYPE=text/html:The New Hampshire SPCA&#39\;s 20th Annual Auction for the Animals will be held Saturday\, November 22nd at the beautiful Wentworth by the Sea in Newcastle\, NH. This event helps us continue our lifesaving mission to serve as a safe haven for nearly 2\,500 abandoned\, abused and neglected animals each and every year. All of them need food\, shelter and a warm bed\, and some require extensive medical care and rehabilitation. The event begins at 5:30pm with the silent and super silent auction followed by dinner and the live auction at 7:30pm. You may purchase tickets at www.nhspca.org.
LOCATION:Wentworth by the Sea
UID:e.1659.3957
SEQUENCE:3
DTSTAMP:20260419T133738Z
URL:https://business.portsmouthchamber.org/events/details/20th-annual-auction-of-the-animals-11-22-2014-3957
END:VEVENT

END:VCALENDAR
