BEGIN:VCALENDAR
VERSION:2.0
PRODID:-//ChamberMaster//Event Calendar 2.0//EN
METHOD:PUBLISH
X-PUBLISHED-TTL:P3D
REFRESH-INTERVAL:P3D
CALSCALE:GREGORIAN
BEGIN:VEVENT
DTSTART:20140621T130000Z
DTEND:20140621T190000Z
X-MICROSOFT-CDO-ALLDAYEVENT:FALSE
SUMMARY:25th Annual Pocket Garden Tour of Portsmouth
DESCRIPTION:Since its beginnings in 1990\, this much-anticipated community event has celebrated Portsmouth's ever-evolving home gardens.  This year twelve Portsmouth homeowners in a Little Harbor neighborhood will open their unique private gardens for inspiring and uplifting behind-the-scenes exploration.  Listen to local musicians and munch on homemade cookies as you stroll.
X-ALT-DESC;FMTTYPE=text/html:<strong><span style="font-weight:normal\;"><span style="color:#606060\;"><span style="font-family:verdana\,sans-serif\;"><span style="font-size:9.0pt\;">Since its beginnings in 1990\, this much-anticipated community event has celebrated Portsmouth&rsquo\;s ever-evolving home gardens.&nbsp\; This year twelve Portsmouth homeowners in a Little Harbor neighborhood will open their unique private gardens for inspiring and uplifting behind-the-scenes exploration.&nbsp\; Listen to local musicians and munch on homemade cookies as you stroll.</span></span></span></span></strong>
LOCATION:292 State St. Portsmouth
UID:e.1659.1486
SEQUENCE:3
DTSTAMP:20260419T203332Z
URL:https://business.portsmouthchamber.org/events/details/25th-annual-pocket-garden-tour-of-portsmouth-06-21-2014-1486
END:VEVENT

END:VCALENDAR
