BEGIN:VCALENDAR
VERSION:2.0
PRODID:-//ChamberMaster//Event Calendar 2.0//EN
METHOD:PUBLISH
X-PUBLISHED-TTL:P3D
REFRESH-INTERVAL:P3D
CALSCALE:GREGORIAN
BEGIN:VEVENT
DTSTART:20140607T153000Z
DTEND:20140607T190000Z
X-MICROSOFT-CDO-ALLDAYEVENT:FALSE
SUMMARY:30th Annual WOKQ Chowder Festival
DESCRIPTION:The annual Chowder Festival offers some of the best Chowder the Seacoast has to offer.\n\n\n\nEach year\, more than 4\,000 people help kick off the Prescott Park Arts Festival summer season by enjoying  more than 500 gallons of piping hot chowder served up for tasting.\n\n\n\nBe your own judge and vote for your favorite chowder from more than a dozen restaurants as they compete for the Best Chowder title!
X-ALT-DESC;FMTTYPE=text/html:The annual Chowder Festival offers some of the best Chowder the Seacoast has to offer.<br />\n<br />\nEach year\, more than 4\,000 people help kick off the Prescott Park Arts Festival summer season by enjoying&nbsp\; more than 500 gallons of piping hot chowder served up for tasting.<br />\n<br />\nBe your own judge and vote for your favorite chowder from more than a dozen restaurants as they compete for the Best Chowder title!
LOCATION:Prescott Park
UID:e.1659.1652
SEQUENCE:3
DTSTAMP:20260419T202842Z
URL:https://business.portsmouthchamber.org/events/details/30th-annual-wokq-chowder-festival-06-07-2014-1652
END:VEVENT

END:VCALENDAR
