BEGIN:VCALENDAR
VERSION:2.0
PRODID:-//ChamberMaster//Event Calendar 2.0//EN
METHOD:PUBLISH
X-PUBLISHED-TTL:P3D
REFRESH-INTERVAL:P3D
CALSCALE:GREGORIAN
BEGIN:VEVENT
DTSTART;VALUE=DATE:20140710
DTEND;VALUE=DATE:20140711
TRANSP:TRANSPARENT
X-MICROSOFT-CDO-ALLDAYEVENT:TRUE
SUMMARY:31st Annual Portsmouth Chamber Golf Tournament
DESCRIPTION:Pease Golf Course has undergone numerous renovations and innovative upgrades since it was originally designed on former farmland in 1901. We are excited to be offering you the opportunity to play in the first Golf Tournament of the 2014 season. \n\n \n\nThe Chamber's 31st annual Golf Tournament is an annual fundraising event for the Greater Portsmouth Chamber of Commerce.  This event is an exciting opportunity to retreat and network with other members and their guests. \n\n \n\nTogether\, we support and promote local business\, influence public policy\, develop tourism and improve the quality of life on the seacoast.  The proceeds we receive from generous donations like yours benefit the Chamber's program of work and ultimately the vitality of the Seacoast business community.
X-ALT-DESC;FMTTYPE=text/html:<div style="margin:0px 0px 24px\;padding:0px\;border:0px\;outline:0px\;font-size:16px\;vertical-align:baseline\;line-height:1.15em\;font-family:Arial\, Helvetica\, sans-serif\;color:rgb(64\, 64\, 64)\;"><span data-mce-style="font-size: small\; font-family: arial\, helvetica\, sans-serif\;" style="padding:0px\;border:0px\;outline:0px\;vertical-align:baseline\;background-position:initial initial\;background-repeat:initial initial\;"><span style="font-family:arial\,helvetica\,sans-serif\;"><span style="background-color:transparent\;"><span style="font-size:small\;">Pease Golf Course&nbsp\;<span data-mce-style="color: black\;" style="padding:0px\;border:0px\;outline:0px\;vertical-align:baseline\;background-position:initial initial\;background-repeat:initial initial\;"><span style="color:black\;"><span style="background-color:transparent\;"><span style="font-size:13px\;">has undergone numerous renovations and innovative upgrades since it was originally designed on former farmland in 1901. We are excited to be offering you the opportunity to play in the first Golf Tournament of the 2014 season.&nbsp\;</span></span></span></span></span></span></span></span><br />\n&nbsp\;<br />\n<span data-mce-style="font-family: arial\, helvetica\, sans-serif\;" style="padding:0px\;border:0px\;outline:0px\;vertical-align:baseline\;"><span style="font-family:arial\,helvetica\,sans-serif\;"><span style="background-color:transparent\;"><span data-mce-style="font-size: small\;" style="padding:0px\;border:0px\;outline:0px\;vertical-align:baseline\;background-position:initial initial\;background-repeat:initial initial\;"><span style="background-color:transparent\;"><span style="font-size:small\;">The Chamber&rsquo\;s 31st annual Golf Tournament is an annual fundraising event for the Greater Portsmouth Chamber of Commerce.&nbsp\;&nbsp\;This event is an exciting opportunity to retreat and network with other members and their guests.&nbsp\;</span></span></span></span></span></span><br />\n&nbsp\;<br />\n<span data-mce-style="font-family: arial\, helvetica\, sans-serif\;" style="padding:0px\;border:0px\;outline:0px\;vertical-align:baseline\;"><span style="font-family:arial\,helvetica\,sans-serif\;"><span style="background-color:transparent\;"><span data-mce-style="font-size: small\;" style="padding:0px\;border:0px\;outline:0px\;vertical-align:baseline\;background-position:initial initial\;background-repeat:initial initial\;"><span style="background-color:transparent\;"><span style="font-size:small\;">Together\, we support and promote local business\, influence public policy\, develop tourism and improve the quality of life on the seacoast.&nbsp\;&nbsp\;The proceeds we receive from generous donations like yours benefit the Chamber&rsquo\;s program of work and ultimately the vitality of the Seacoast business community.&nbsp\;&nbsp\;</span></span></span></span></span></span>\n\n<div>&nbsp\;</div>\n</div>\n<br />\n<br />\n&nbsp\;
LOCATION:Newly renovated Pease Golf Course.
UID:e.1659.1253
SEQUENCE:3
DTSTAMP:20260419T190729Z
URL:https://business.portsmouthchamber.org/events/details/31st-annual-portsmouth-chamber-golf-tournament-07-10-2014-1253
END:VEVENT

END:VCALENDAR
