BEGIN:VCALENDAR
VERSION:2.0
PRODID:-//ChamberMaster//Event Calendar 2.0//EN
METHOD:PUBLISH
X-PUBLISHED-TTL:P3D
REFRESH-INTERVAL:P3D
CALSCALE:GREGORIAN
BEGIN:VEVENT
DTSTART:20170610T230000Z
DTEND:20170611T000000Z
X-MICROSOFT-CDO-ALLDAYEVENT:FALSE
SUMMARY:3S Artspace and Junichi Fukuda presents: The Second Eye
DESCRIPTION:The Second Eye series invites the public to experience modern dancer Junichi Fukuda's response to the current exhibit on display in The Gallery at 3S.  Junichi will perform a brief\, improvisational piece\, surrounded by visual art.  The audience is then invited to respond to the dance through spoken or written comment\, questions\, criticism\, or advice.  Junichi will then consider the comments and dance again\, allowing the public to witness process and see how perception and context influence a dancer's expression\n\n\n\nAs a multi-disciplinary arts center\, 3S Artspace strives to not only present art in different forms\, but to engage and cross-cultivate our artists and audience in creative conversations.  This series seeks to provide regularly occurring opportunities to experience contemporary dance at 3S Artspace and help to build a Seacoast audience that can support larger productions on site in the future.
X-ALT-DESC;FMTTYPE=text/html:The Second Eye series invites the public to experience modern dancer Junichi Fukuda&#39\;s response to the current exhibit on display in The Gallery at 3S. &nbsp\;Junichi will perform a brief\, improvisational piece\, surrounded by visual art. &nbsp\;The audience is then invited to respond to the dance through spoken or written comment\, questions\, criticism\, or advice. &nbsp\;Junichi will then consider the comments and dance again\, allowing the public to witness process and see how perception and context influence a dancer&#39\;s expression<br />\n<br />\nAs a multi-disciplinary arts center\, 3S Artspace strives to not only present art in different forms\, but to engage and cross-cultivate our artists and audience in creative conversations. &nbsp\;This series seeks to provide regularly occurring opportunities to experience contemporary dance at 3S Artspace and help to build a Seacoast audience that can support larger productions on site in the future. &nbsp\; &nbsp\; &nbsp\;
LOCATION:319 Vaughan St. Portsmouth
UID:e.1659.31753
SEQUENCE:3
DTSTAMP:20260421T115256Z
URL:https://business.portsmouthchamber.org/events/details/3s-artspace-and-junichi-fukuda-presents-the-second-eye-31753
END:VEVENT

END:VCALENDAR
