BEGIN:VCALENDAR
VERSION:2.0
PRODID:-//ChamberMaster//Event Calendar 2.0//EN
METHOD:PUBLISH
X-PUBLISHED-TTL:P3D
REFRESH-INTERVAL:P3D
CALSCALE:GREGORIAN
BEGIN:VEVENT
DTSTART;VALUE=DATE:20161012
DTEND;VALUE=DATE:20161013
TRANSP:TRANSPARENT
X-MICROSOFT-CDO-ALLDAYEVENT:TRUE
SUMMARY:3S Artspace: Let's "B" Reel Presents: The Exorcist: Drive-In Style at 3S
DESCRIPTION:Seacoast Rep & 3S Artspace \n\nwith Let's "B" Reel Present: \n\nA benefit for the Portsmouth Halloween Parade\n\n\n\nHosted by Bunny Wonderland and Timothy Fife\n\nThe Exorcist\n\nProjected Drive-In Style at the 3S Vaughan St. Lot
X-ALT-DESC;FMTTYPE=text/html:Seacoast Rep &amp\; 3S Artspace&nbsp\;<br />\nwith Let&#39\;s &quot\;B&quot\; Reel Present:&nbsp\;<br />\nA benefit for the Portsmouth Halloween Parade<br />\n<br />\nHosted by Bunny Wonderland and Timothy Fife<br />\nThe Exorcist<br />\nProjected Drive-In Style at the 3S Vaughan St. Lot
LOCATION:319 Vaughan St. Portsmouth\, NH 03801
UID:e.1659.25881
SEQUENCE:3
DTSTAMP:20260421T225340Z
URL:https://business.portsmouthchamber.org/events/details/3s-artspace-let-s-b-reel-presents-the-exorcist-drive-in-style-at-3s-25881
END:VEVENT

END:VCALENDAR
