BEGIN:VCALENDAR
VERSION:2.0
PRODID:-//ChamberMaster//Event Calendar 2.0//EN
METHOD:PUBLISH
X-PUBLISHED-TTL:P3D
REFRESH-INTERVAL:P3D
CALSCALE:GREGORIAN
BEGIN:VEVENT
DTSTART:20170409T000000Z
DTEND:20170409T030000Z
X-MICROSOFT-CDO-ALLDAYEVENT:FALSE
SUMMARY:3S Artspace presents: Allison Crutchfield and the Fizz w/ Vagabon & Empath
DESCRIPTION:Allison Crutchfield has been writing and performing over the years\, most notably in her co-founding projects Swearin' and P.S. Eliot. Lately she's been part of the Waxahatchee live band and self-released the Lean In To It EP\, but 2017 will see the release of her first proper full-length. More specifics on Allison's LP coming later this year.
X-ALT-DESC;FMTTYPE=text/html:Allison Crutchfield has been writing and performing over the years\, most notably in her co-founding projects Swearin&rsquo\; and P.S. Eliot. Lately she&rsquo\;s been part of the Waxahatchee live band and self-released the Lean In To It EP\, but 2017 will see the release of her first proper full-length. More specifics on Allison&rsquo\;s LP coming later this year.
LOCATION:319 Vaughan St. Portsmouth\, NH
UID:e.1659.29791
SEQUENCE:3
DTSTAMP:20260421T132207Z
URL:https://business.portsmouthchamber.org/events/details/3s-artspace-presents-allison-crutchfield-and-the-fizz-w-vagabon-empath-29791
END:VEVENT

END:VCALENDAR
