BEGIN:VCALENDAR
VERSION:2.0
PRODID:-//ChamberMaster//Event Calendar 2.0//EN
METHOD:PUBLISH
X-PUBLISHED-TTL:P3D
REFRESH-INTERVAL:P3D
CALSCALE:GREGORIAN
BEGIN:VEVENT
DTSTART:20170611T000000Z
DTEND:20170611T020000Z
X-MICROSOFT-CDO-ALLDAYEVENT:FALSE
SUMMARY:3S Artspace presents: Bahamas with Jason Anderson
DESCRIPTION:Afie Jurvanen isn't from the Bahamas. He's a Finnish-Canadian from Barrie a working class town in rural Ontario. But his chosen epithet is fitting. Since 2009 he's been making music under the name Bahamas writing songs about sunsets\, love affairs\, and making out with crooked smiles. Through simple arrangements\, he charts an escape route from the snow belt to the coral reefs. His newest album\, Bahamas Is Afie\, was released August 19\, 2014 on Brushfire Records/Universal.\n\n\n\nBahamas is Afie is a coming of age record. Self-titled and self-produced   It is the next step in the evolution of Jurvanen's songcraft\, guitar mastery\, and melodic pop hooks   following his previous full-lengths Pink Strat (2009) and Barchords (2011). Bahamas is Afie remains a sparse\, moving\, headphone album\, complemented by a more developed arrangement of strings\, brass\, winds\, orchestral percussion\, and chamber choruses that transport the listener from moving seas to a search for strength\, to a place of resolve and comfort.\n\n\n\n"This feels like a self-titled record to me. The songs seem to have a definitive quality to them\, and they ended up going to all kinds of unexpected musical places. I really thought I was going to make a traditional folk record but as the recording evolved I started having some pretty different ideas. I started playing this game like\, 'what would 80s Van Morrison do if he were producing this?' or 'what about John Williams?' It all came together in a simple\, naive and direct way and I was really energized by the process. And I got to play a lot of guitar I feel like I'll get another chance to make a folkie record somewhere down the road. For now\, this is me."
X-ALT-DESC;FMTTYPE=text/html:Afie Jurvanen isn&rsquo\;t from the Bahamas. He&rsquo\;s a Finnish-Canadian from Barrie&ndash\;a working class town in rural Ontario. But his chosen epithet is fitting. Since 2009 he&rsquo\;s been making music under the name Bahamas&ndash\;writing songs about sunsets\, love affairs\, and making out with crooked smiles. Through simple arrangements\, he charts an escape route from the snow belt to the coral reefs. His newest album\, Bahamas Is Afie\, was released August 19\, 2014 on Brushfire Records/Universal.<br />\n<br />\nBahamas is Afie is a coming of age record. Self-titled and self-produced &ndash\; It is the next step in the evolution of Jurvanen&rsquo\;s songcraft\, guitar mastery\, and melodic pop hooks &ndash\; following his previous full-lengths Pink Strat (2009) and Barchords (2011). Bahamas is Afie remains a sparse\, moving\, headphone album\, complemented by a more developed arrangement of strings\, brass\, winds\, orchestral percussion\, and chamber choruses that transport the listener from moving seas to a search for strength\, to a place of resolve and comfort.<br />\n<br />\n&ldquo\;This feels like a self-titled record to me. The songs seem to have a definitive quality to them\, and they ended up going to all kinds of unexpected musical places. I really thought I was going to make a traditional folk record but as the recording evolved I started having some pretty different ideas. I started playing this game like\, &lsquo\;what would 80s Van Morrison do if he were producing this?&rsquo\; or &lsquo\;what about John Williams?&rsquo\; It all came together in a simple\, naive and direct way and I was really energized by the process. And I got to play a lot of guitar&hellip\;I feel like I&rsquo\;ll get another chance to make a folkie record somewhere down the road. For now\, this is me.&rdquo\;
LOCATION:319 Vaughan St. Portsmouth\, NH
UID:e.1659.31754
SEQUENCE:3
DTSTAMP:20260419T115056Z
URL:https://business.portsmouthchamber.org/events/details/3s-artspace-presents-bahamas-with-jason-anderson-31754
END:VEVENT

END:VCALENDAR
