BEGIN:VCALENDAR
VERSION:2.0
PRODID:-//ChamberMaster//Event Calendar 2.0//EN
METHOD:PUBLISH
X-PUBLISHED-TTL:P3D
REFRESH-INTERVAL:P3D
CALSCALE:GREGORIAN
BEGIN:VEVENT
DTSTART:20170310T000000Z
DTEND:20170310T030000Z
X-MICROSOFT-CDO-ALLDAYEVENT:FALSE
SUMMARY:3S Artspace presents: Best and Most Beautiful Things: Film Screening + Q&A w/ Michelle Smith
DESCRIPTION:In 2009 director Garrett Zevgetis googled the word "Beauty."\n\n\n\nHe had been working on a number of darker-themed documentaries and was determined to find an uplifting story for a future project. The search returned a poignant Helen Keller quote that led Garrett to Perkins School for the Blind outside Boston\, a renowned institution where a feature documentary had never before been made. He began volunteering at Perkins. On the last day of his scheduled term\, a bubbly student introduced herself   Michelle had found him.\n\n\n\nBEST AND MOST BEAUTIFUL THINGS is a celebration of outcasts everywhere\, following a precocious young blind woman who disappears into quirky obsessions and isolation. With humor and bold curiosity\, she chases love and freedom in a surprising\, sex-positive community.\n\n\n\nOur film had its World Premiere at the SXSW Film Festival in March 2016. We have been extremely grateful to receive support from the LEF Foundation Moving Image Fund and IFP's Independent Film Week\, and to receive awards from Florida Film Festival\, Independent Film Festival Boston\, Superfest International Disability Film Festival and Tulsa American Film Festival. We're thrilled to introduce the world to Michelle's story of joyful human connection and empowerment.
X-ALT-DESC;FMTTYPE=text/html:In 2009 director Garrett Zevgetis googled the word &ldquo\;Beauty.&rdquo\;<br />\n<br />\nHe had been working on a number of darker-themed documentaries and was determined to find an uplifting story for a future project. The search returned a poignant Helen Keller quote that led Garrett to Perkins School for the Blind outside Boston\, a renowned institution where a feature documentary had never before been made. He began volunteering at Perkins. On the last day of his scheduled term\, a bubbly student introduced herself &ndash\; Michelle had found him.<br />\n<br />\nBEST AND MOST BEAUTIFUL THINGS is a celebration of outcasts everywhere\, following a precocious young blind woman who disappears into quirky obsessions and isolation. With humor and bold curiosity\, she chases love and freedom in a surprising\, sex-positive community.<br />\n<br />\nOur film had its World Premiere at the SXSW Film Festival in March 2016. We have been extremely grateful to receive support from the LEF Foundation Moving Image Fund and IFP&rsquo\;s Independent Film Week\, and to receive awards from Florida Film Festival\, Independent Film Festival Boston\, Superfest International Disability Film Festival and Tulsa American Film Festival. We&rsquo\;re thrilled to introduce the world to Michelle&rsquo\;s story of joyful human connection and empowerment.
LOCATION:319 Vaughan St. Portsmouth\, NH
UID:e.1659.29786
SEQUENCE:3
DTSTAMP:20260421T164233Z
URL:https://business.portsmouthchamber.org/events/details/3s-artspace-presents-best-and-most-beautiful-things-film-screening-q-a-w-michelle-smith-29786
END:VEVENT

END:VCALENDAR
