BEGIN:VCALENDAR
VERSION:2.0
PRODID:-//ChamberMaster//Event Calendar 2.0//EN
METHOD:PUBLISH
X-PUBLISHED-TTL:P3D
REFRESH-INTERVAL:P3D
CALSCALE:GREGORIAN
BEGIN:VEVENT
DTSTART:20170226T010000Z
DTEND:20170226T040000Z
X-MICROSOFT-CDO-ALLDAYEVENT:FALSE
SUMMARY:3S Artspace presents: Morne w/ Grue & Northern Curse & NYCTEREN
DESCRIPTION:Join 3S Artspace to watch the local bands: Morne w/ Grue & Northern Curse & NYCTEREN.
X-ALT-DESC;FMTTYPE=text/html:Join 3S Artspace to watch the local bands:&nbsp\;Morne w/ Grue &amp\; Northern Curse &amp\; NYCTEREN.&nbsp\;
LOCATION:319 Vaughan St. Portsmouth\, NH
UID:e.1659.29775
SEQUENCE:3
DTSTAMP:20260421T164001Z
URL:https://business.portsmouthchamber.org/events/details/3s-artspace-presents-morne-w-grue-northern-curse-nycteren-29775
END:VEVENT

END:VCALENDAR
