BEGIN:VCALENDAR
VERSION:2.0
PRODID:-//ChamberMaster//Event Calendar 2.0//EN
METHOD:PUBLISH
X-PUBLISHED-TTL:P3D
REFRESH-INTERVAL:P3D
CALSCALE:GREGORIAN
BEGIN:VEVENT
DTSTART:20170312T010000Z
DTEND:20170312T030000Z
X-MICROSOFT-CDO-ALLDAYEVENT:FALSE
SUMMARY:3S Artspace presents: Notches & Narrow/Arrow Tour Kick Off
DESCRIPTION:Click here for more information.
X-ALT-DESC;FMTTYPE=text/html:<a href="http://www.3sarts.org/performances/performance/Notches-&amp\;-Narrow-Arrow-Tour-Kick-Off?performanceid=2188">Click here for more information.&nbsp\;</a>
LOCATION:319 Vaughan St. Portsmouth\, NH
UID:e.1659.29787
SEQUENCE:3
DTSTAMP:20260421T150212Z
URL:https://business.portsmouthchamber.org/events/details/3s-artspace-presents-notches-narrow-arrow-tour-kick-off-29787
END:VEVENT

END:VCALENDAR
