BEGIN:VCALENDAR
VERSION:2.0
PRODID:-//ChamberMaster//Event Calendar 2.0//EN
METHOD:PUBLISH
X-PUBLISHED-TTL:P3D
REFRESH-INTERVAL:P3D
CALSCALE:GREGORIAN
BEGIN:VEVENT
DTSTART:20170218T010000Z
DTEND:20170218T040000Z
X-MICROSOFT-CDO-ALLDAYEVENT:FALSE
SUMMARY:3S Artspace presents: Pink Talking Fish
DESCRIPTION:Pink Talking Fish is a Hybrid Tribute Fusion Act that takes the music from three of the world's most beloved bands and creates a special treat for fans of the music.\n\n\n\nPink Floyd\, The Talking Heads and Phish are all more than just bands... they are Phenomenons.  Their creations have artistically inspired people and their mindblowing live performances have brought people together to form a special sense of community around the love for their favorite band.\n\n\n\nAlthough the music from each act is different\, Pink Talking Fish has discovered that fusing the material together creates an amazing story.  The epic emotion of Pink Floyd.... The funky\, danceable layerings of The Talking Heads.... The multitude of styles\, unique compositional structures and pure fun of Phish.... to merge these three into one gives music lovers a special experience.\n\n\n\nPink Talking Fish features Eric Gould on bass\, Richard James on keyboards\, Zack Burwick on drums and Dave Brunyak on guitar.  This is a band created by musicians who love the music of these acts.  It's purpose is to heighten people's passion for this music by creating something fresh and exciting for fans.  \n\n\n\nDiscovering connections is part of the fun:  Pink Floyd's "On The Run" seamlessly fitting in the middle of the composition of Phish's "You Enjoy Myself".  Perfectly placing Phish's "Sand" into the groove of The Talking Head's "Slippery People".  Segued collections from all three acts such as Run Like Hell   Making Flippy Floppy   Piper   Run Like Hell or Mike's Song   Have A Cigar   Once In A Lifetime   Weekapaug Groove.  These ideas are the spirit behind Pink Talking Fish.\n\n\n\nThe story is ever evolving.  The experience is always exciting.  Come join Pink Talking Fish for the ultimate fusion tribute and celebrate the love of this music in unique fashion.
X-ALT-DESC;FMTTYPE=text/html:Pink Talking Fish is a Hybrid Tribute Fusion Act that takes the music from three of the world&#39\;s most beloved bands and creates a special treat for fans of the music.<br />\n<br />\nPink Floyd\, The Talking Heads and Phish are all more than just bands... they are Phenomenons. &nbsp\;Their creations have artistically inspired people and their mindblowing live performances have brought people together to form a special sense of community around the love for their favorite band.<br />\n<br />\nAlthough the music from each act is different\, Pink Talking Fish has discovered that fusing the material together creates an amazing story. &nbsp\;The epic emotion of Pink Floyd.... The funky\, danceable layerings of The Talking Heads.... The multitude of styles\, unique compositional structures and pure fun of Phish.... to merge these three into one gives music lovers a special experience.<br />\n<br />\nPink Talking Fish features Eric Gould on bass\, Richard James on keyboards\, Zack Burwick on drums and Dave Brunyak on guitar. &nbsp\;This is a band created by musicians who love the music of these acts. &nbsp\;It&#39\;s purpose is to heighten people&#39\;s passion for this music by creating something fresh and exciting for fans. &nbsp\;<br />\n<br />\nDiscovering connections is part of the fun: &nbsp\;Pink Floyd&#39\;s &quot\;On The Run&quot\; seamlessly fitting in the middle of the composition of Phish&#39\;s &quot\;You Enjoy Myself&quot\;. &nbsp\;Perfectly placing Phish&#39\;s &quot\;Sand&quot\; into the groove of The Talking Head&#39\;s &quot\;Slippery People&quot\;. &nbsp\;Segued collections from all three acts such as Run Like Hell &gt\; Making Flippy Floppy &gt\; Piper &gt\; Run Like Hell or Mike&#39\;s Song &gt\; Have A Cigar &gt\; Once In A Lifetime &gt\; Weekapaug Groove. &nbsp\;These ideas are the spirit behind Pink Talking Fish.<br />\n<br />\nThe story is ever evolving. &nbsp\;The experience is always exciting. &nbsp\;Come join Pink Talking Fish for the ultimate fusion tribute and celebrate the love of this music in unique fashion.
LOCATION:319 Vaughan St. Portsmouth\, NH
UID:e.1659.29770
SEQUENCE:3
DTSTAMP:20260421T163609Z
URL:https://business.portsmouthchamber.org/events/details/3s-artspace-presents-pink-talking-fish-29770
END:VEVENT

END:VCALENDAR
