BEGIN:VCALENDAR
VERSION:2.0
PRODID:-//ChamberMaster//Event Calendar 2.0//EN
METHOD:PUBLISH
X-PUBLISHED-TTL:P3D
REFRESH-INTERVAL:P3D
CALSCALE:GREGORIAN
BEGIN:VEVENT
DTSTART:20170122T020000Z
DTEND:20170122T045500Z
X-MICROSOFT-CDO-ALLDAYEVENT:FALSE
SUMMARY:3S Artspace presents Rewind: "Dance Club" An 80's\, 90's\, Early 00's Retro Dance Party
DESCRIPTION:It's been a crazy year and winter is upon us\, so its time to turn up the Heat!\n\n\n\nThe REWIND dance party returns with "DANCE CLUB" an 80's/90's/early 00's Retro Dance Party to benefit the ongoing operations at 3S Artspace. \n\n\n\nDJ James 808 from the REWIND "Just Can't Get Enough" 80's Dance Party and "Neon Dreams" 80's/90's Blacklight Party returns to bring you the best in retro dance music & culture. Expect to hear the classic tracks and remixes from the era's you love the most.\n\n\n\nOur last event sold out\, so get your tickets early! As always\, Retro attire is strongly encouraged but not required.  \n\n\n\nThe REWIND dance party series is committed to bringing you the best dance music from the past to the future. REWIND is brought to you in part by Seacoast Of Synth (A New Hampshire Synth and Retro-Wave Fan Page).
X-ALT-DESC;FMTTYPE=text/html:It&rsquo\;s been a crazy year and winter is upon us\, so its time to turn up the Heat!<br />\n<br />\nThe REWIND dance party returns with &ldquo\;DANCE CLUB&rdquo\; an 80&rsquo\;s/90&rsquo\;s/early 00&rsquo\;s Retro Dance Party to benefit the ongoing operations at 3S Artspace.&nbsp\;<br />\n<br />\nDJ James 808 from the REWIND &ldquo\;Just Can&rsquo\;t Get Enough&rdquo\; 80&rsquo\;s Dance Party and &ldquo\;Neon Dreams&rdquo\; 80&rsquo\;s/90&rsquo\;s Blacklight Party returns to bring you the best in retro dance music &amp\; culture. Expect to hear the classic tracks and remixes from the era&rsquo\;s you love the most.<br />\n<br />\nOur last event sold out\, so get your tickets early! As always\, Retro attire is strongly encouraged but not required. &nbsp\;<br />\n<br />\nThe REWIND dance party series is committed to bringing you the best dance music from the past to the future. REWIND is brought to you in part by Seacoast Of Synth (A New Hampshire Synth and Retro-Wave Fan Page).
LOCATION:3S Artspace 319 Vaughan St.\, Portsmouth
UID:e.1659.28253
SEQUENCE:3
DTSTAMP:20260421T193421Z
URL:https://business.portsmouthchamber.org/events/details/3s-artspace-presents-rewind-dance-club-an-80-s-90-s-early-00-s-retro-dance-party-28253
END:VEVENT

END:VCALENDAR
