BEGIN:VCALENDAR
VERSION:2.0
PRODID:-//ChamberMaster//Event Calendar 2.0//EN
METHOD:PUBLISH
X-PUBLISHED-TTL:P3D
REFRESH-INTERVAL:P3D
CALSCALE:GREGORIAN
BEGIN:VEVENT
DTSTART:20170108T010000Z
DTEND:20170108T040000Z
X-MICROSOFT-CDO-ALLDAYEVENT:FALSE
SUMMARY:3S Artspace presents Rick Rude Record Release
DESCRIPTION:Featuring: \n\nRick Rude\n\nBunnys a swine\n\nKiss Concert\n\nGASH\n\n\n\nOut of speakers came noise and out of noise came RICK RUDE. A four-membered creature whose tattered robe\, four-string guitar\, and sand-filled shoes are surrounded by a haze of sweet smoke and empty beer cans\, thrashes about with a charismatic enthusiasm matched only by its lethargic demeanor\, speaking fluently in the cryptic languages of dreams\, love\, and ennui. It inhabits a dark cave on the mountainside of truth\, carefully furnished with dismantled electronics\, books on meditation\, and warped records of Guided By Voices\, Built to Spill\, and Cheap Trick. A nocturnal creature\, Rick Rude feasts on mystical fungi\, boredom\, mushy guitar riffs\, and the delicacy of the human soul.
X-ALT-DESC;FMTTYPE=text/html:<strong>Featuring:&nbsp\;</strong><br />\nRick Rude<br />\nBunnys a swine<br />\nKiss Concert<br />\nGASH<br />\n<br />\nOut of speakers came noise and out of noise came RICK RUDE. A four-membered creature whose tattered robe\, four-string guitar\, and sand-filled shoes are surrounded by a haze of sweet smoke and empty beer cans\, thrashes about with a charismatic enthusiasm matched only by its lethargic demeanor\, speaking fluently in the cryptic languages of dreams\, love\, and ennui. It inhabits a dark cave on the mountainside of truth\, carefully furnished with dismantled electronics\, books on meditation\, and warped records of Guided By Voices\, Built to Spill\, and Cheap Trick. A nocturnal creature\, Rick Rude feasts on mystical fungi\, boredom\, mushy guitar riffs\, and the delicacy of the human soul.
LOCATION:3S Artspace 319 Vaughan St\, Portsmouth
UID:e.1659.28251
SEQUENCE:3
DTSTAMP:20260421T181028Z
URL:https://business.portsmouthchamber.org/events/details/3s-artspace-presents-rick-rude-record-release-28251
END:VEVENT

END:VCALENDAR
