BEGIN:VCALENDAR
VERSION:2.0
PRODID:-//ChamberMaster//Event Calendar 2.0//EN
METHOD:PUBLISH
X-PUBLISHED-TTL:P3D
REFRESH-INTERVAL:P3D
CALSCALE:GREGORIAN
BEGIN:VEVENT
DTSTART:20170326T000000Z
DTEND:20170326T030000Z
X-MICROSOFT-CDO-ALLDAYEVENT:FALSE
SUMMARY:3S Artspace presents: Stef Chura w/ Weakened Friends
DESCRIPTION:Stef Chura's debut studio album\, Messes (out 1/27 on Urinal Cake Records)\, is born of her years of experience playing around the Detroit\, Michigan underground\, setting up DIY shows in the area\, and moving around the state-nearly 20 times. "Right when it starts to feel like home / It's time to go\," she sings literally on its opening cut\, "Slow Motion\," a twisty\, dim-lit guitar pop song where she curls and stretches every word. There are worlds of emotion in the ways Chura pronounces phrases with twang and grit\, alternatingly full of despair\, playfulness\, and abandon. Chura calls her music "emotional collage\," eschewing start-to-finish storylines in favor of writing intuitively about feelings\, drawing from experiences and references related to a certain sentiment.\n\n\n\nThrough intricate guitar work and warm\, textured production\, Messes finds her trying to make sense of life's ups and downs. "It's about emotional mess\, not physical mess\," Chura says. "The title track is about knowing that you are going to do something the wrong way\, but you're doing it anyway because you want that experience. I've had to do a lot of things the wrong way in order to figure out how to live my life."
X-ALT-DESC;FMTTYPE=text/html:Stef Chura&#39\;s debut studio album\, Messes (out 1/27 on Urinal Cake Records)\, is born of her years of experience playing around the Detroit\, Michigan underground\, setting up DIY shows in the area\, and moving around the state-nearly 20 times. &quot\;Right when it starts to feel like home / It&#39\;s time to go\,&quot\; she sings literally on its opening cut\, &quot\;Slow Motion\,&quot\; a twisty\, dim-lit guitar pop song where she curls and stretches every word. There are worlds of emotion in the ways Chura pronounces phrases with twang and grit\, alternatingly full of despair\, playfulness\, and abandon. Chura calls her music &quot\;emotional collage\,&quot\; eschewing start-to-finish storylines in favor of writing intuitively about feelings\, drawing from experiences and references related to a certain sentiment.<br />\n<br />\nThrough intricate guitar work and warm\, textured production\, Messes finds her trying to make sense of life&#39\;s ups and downs. &quot\;It&#39\;s about emotional mess\, not physical mess\,&quot\; Chura says. &quot\;The title track is about knowing that you are going to do something the wrong way\, but you&#39\;re doing it anyway because you want that experience. I&#39\;ve had to do a lot of things the wrong way in order to figure out how to live my life.&quot\;
LOCATION:319 Vaughan St. Portsmouth\, NH
UID:e.1659.29790
SEQUENCE:3
DTSTAMP:20260421T164138Z
URL:https://business.portsmouthchamber.org/events/details/3s-artspace-presents-stef-chura-w-weakened-friends-29790
END:VEVENT

END:VCALENDAR
