BEGIN:VCALENDAR
VERSION:2.0
PRODID:-//ChamberMaster//Event Calendar 2.0//EN
METHOD:PUBLISH
X-PUBLISHED-TTL:P3D
REFRESH-INTERVAL:P3D
CALSCALE:GREGORIAN
BEGIN:VEVENT
DTSTART:20170227T000000Z
DTEND:20170227T030000Z
X-MICROSOFT-CDO-ALLDAYEVENT:FALSE
SUMMARY:3S Artspace presents: Tall Tall Trees w/ Young Frontier
DESCRIPTION:The man behind Tall Tall Trees is Mike Savino\, a pioneer in the the world of experimental and psychedelic banjo music. If you've seen Kishi Bashi live over the last several years\, chances are you've already seen this insane banjo virtuoso playing in K's band\, and perhaps opening the show. Often performing solo\, Savino's modern take on the one-man band involves running his homemade instrument\, dubbed the "Banjotron 5000" through a slab of effects and loopers\, bowing\, drumming\, and strumming out multi-textured arrangements to support his lyrically driven songs.
X-ALT-DESC;FMTTYPE=text/html:The man behind Tall Tall Trees is Mike Savino\, a pioneer in the the world of experimental and psychedelic banjo music. If you&#39\;ve seen Kishi Bashi live over the last several years\, chances are you&#39\;ve already seen this insane banjo virtuoso playing in K&#39\;s band\, and perhaps opening the show. Often performing solo\, Savino&rsquo\;s modern take on the one-man band involves running his homemade instrument\, dubbed the &quot\;Banjotron 5000&quot\; through a slab of effects and loopers\, bowing\, drumming\, and strumming out multi-textured arrangements to support his lyrically driven songs.
LOCATION:319 Vaughan St. Portsmouth\, NH
UID:e.1659.29776
SEQUENCE:3
DTSTAMP:20260421T163532Z
URL:https://business.portsmouthchamber.org/events/details/3s-artspace-presents-tall-tall-trees-w-young-frontier-29776
END:VEVENT

END:VCALENDAR
