BEGIN:VCALENDAR
VERSION:2.0
PRODID:-//ChamberMaster//Event Calendar 2.0//EN
METHOD:PUBLISH
X-PUBLISHED-TTL:P3D
REFRESH-INTERVAL:P3D
CALSCALE:GREGORIAN
BEGIN:VEVENT
DTSTART:20170521T000000Z
DTEND:20170521T030000Z
X-MICROSOFT-CDO-ALLDAYEVENT:FALSE
SUMMARY:3S Artspace presents: Thanks to Gravity w/ QUAD
DESCRIPTION:Thanks to Gravity is known as one of the quintessential Portsmouth\, NH bands from the heyday of the local music scene in the 1990's. Formed at UNH in 1989\, they gigged relentlessly and were one of the first bands to tour nationally and sign a record deal with a major label.\n\n \n\nAlthough rooted in rock\, Thanks to Gravity is respected for their penchant for thinking outside the box and their achievement of a truly unique sound. The music is eclectic and rich with harmonic textures. Andy Happel's crafty songwriting is delivered unconventionally via violin\, keyboards\, bass\, and drums. The compositions include elements of progressive rock\, Classical\, Baroque\, riff-rock\, and college indie-rock. Their frenetic live performance coupled with a level of musical sophistication is appealing to a wide range of music aficionados.\n\n \n\nThanks to Gravity disbanded in the early 2000's and reunited for a few concerts in 2012 and 2013. This rare performance includes Andy Happel\, vocals\, violin\, guitar\; Drew Wyman\, bass\; Sean Daniels\, drums.  And special guests: Duncan Watt\, keyboards\; Pete Witham\, guitar\; and Todd the Rocket\, percussion
X-ALT-DESC;FMTTYPE=text/html:Thanks to Gravity is known as one of the quintessential Portsmouth\, NH bands from the heyday of the local music scene in the 1990&rsquo\;s. Formed at UNH in 1989\, they gigged relentlessly and were one of the first bands to tour nationally and sign a record deal with a major label.<br />\n&nbsp\;<br />\nAlthough rooted in rock\, Thanks to Gravity is respected for their penchant for thinking outside the box and their achievement of a truly unique sound. The music is eclectic and rich with harmonic textures. Andy Happel&rsquo\;s crafty songwriting is delivered unconventionally via violin\, keyboards\, bass\, and drums. The compositions include elements of progressive rock\, Classical\, Baroque\, riff-rock\, and college indie-rock. Their frenetic live performance coupled with a level of musical sophistication is appealing to a wide range of music aficionados.<br />\n&nbsp\;<br />\nThanks to Gravity disbanded in the early 2000&rsquo\;s and reunited for a few concerts in 2012 and 2013. This rare performance includes Andy Happel\, vocals\, violin\, guitar\; Drew Wyman\, bass\; Sean Daniels\, drums. &nbsp\;And special guests: Duncan Watt\, keyboards\; Pete Witham\, guitar\; and Todd the Rocket\, percussion
LOCATION:319 Vaughan St. Portsmouth\, NH
UID:e.1659.29796
SEQUENCE:3
DTSTAMP:20260421T131743Z
URL:https://business.portsmouthchamber.org/events/details/3s-artspace-presents-thanks-to-gravity-w-quad-29796
END:VEVENT

END:VCALENDAR
