BEGIN:VCALENDAR
VERSION:2.0
PRODID:-//ChamberMaster//Event Calendar 2.0//EN
METHOD:PUBLISH
X-PUBLISHED-TTL:P3D
REFRESH-INTERVAL:P3D
CALSCALE:GREGORIAN
BEGIN:VEVENT
DTSTART:20170415T000000Z
DTEND:20170415T030000Z
X-MICROSOFT-CDO-ALLDAYEVENT:FALSE
SUMMARY:3S Artspace presents: Xiu Xiu w/ Lilith
DESCRIPTION:FORGET was recorded during a period of epic productivity for Xiu Xiu. While writing FORGET\, they released the lauded Plays the Music of Twin Peaks\, collaborated with Mitski on a song for an upcoming John Cameron Mitchell film\, composed music for art installations by Danh Vo\, recorded an album with Merzbow and scored an experimental reworking of the Mozart opera\, The Magic Flute. All of this frantic\, external activity lead to a softly damaged dreaminess and broadened intent that has not been heard before in other Xiu Xiu works. \n\n\n\nThe album was produced by John Congleton (Blondie\, Sigur Ros)\, Greg Saunier of Deerhoof and Xiu Xiu's own Angela Seo. It features guest appearances by fabled minimalist composer Charlemagne Palestine\, LA Banjee Ball superstar commentator Enyce Smith\, Swans guitar virtuoso Kristof Hahn and legendary drag artist and personal hero of Xiu Xiu\, Vaginal Davis.\n\n\n\nStandout track\, "Wondering" is one of the catchiest boogie pop gems in the Xiu Xiu catalog\, but like much of FORGET\, it still bears an underlying tension that manifests differently in each piece. From the haunted guitar duet of "Petite"\, the hilariously fraught lyrics of "Get Up\," the advanced industrial boxing match of "Jenny GoGo\," or the experimental goth explosion of "Faith\, Torn Apart\," all the songs in their own way build to a roiling boil of a fate in vanishing.\n\n\n\nThe calligraphy on the cover translates literally to "we forget." It bows to the universality of everything and everyone's inevitable decline and foggy disappearance. Regarding the album title\, Xiu Xiu singer Jamie Stewart said\, "To forget uncontrollably embraces the duality of human frailty. It is a rebirth in blanked out renewal but it also drowns and mutilates our attempt to hold on to what is dear." FORGET is both the palliative fade out of a traumatic past but also the trampling pain of a beautiful one's decay.\n\n\n\nXiu Xiu is Shayna Dunkelman\, Angela Seo and Jamie "Butch Jenny" Stewart
X-ALT-DESC;FMTTYPE=text/html:FORGET was recorded during a period of epic productivity for Xiu Xiu. While writing FORGET\, they released the lauded Plays the Music of Twin Peaks\, collaborated with Mitski on a song for an upcoming John Cameron Mitchell film\, composed music for art installations by Danh Vo\, recorded an album with Merzbow and scored an experimental reworking of the Mozart opera\, The Magic Flute. All of this frantic\, external activity lead to a softly damaged dreaminess and broadened intent that has not been heard before in other Xiu Xiu works.&nbsp\;<br />\n<br />\nThe album was produced by John Congleton (Blondie\, Sigur Ros)\, Greg Saunier of Deerhoof and Xiu Xiu&#39\;s own Angela Seo. It features guest appearances by fabled minimalist composer Charlemagne Palestine\, LA Banjee Ball superstar commentator Enyce Smith\, Swans guitar virtuoso Kristof Hahn and legendary drag artist and personal hero of Xiu Xiu\, Vaginal Davis.<br />\n<br />\nStandout track\, &ldquo\;Wondering&rdquo\; is one of the catchiest boogie pop gems in the Xiu Xiu catalog\, but like much of FORGET\, it still bears an underlying tension that manifests differently in each piece. From the haunted guitar duet of &quot\;Petite&quot\;\, the hilariously fraught lyrics of &quot\;Get Up\,&quot\; the advanced industrial boxing match of &quot\;Jenny GoGo\,&quot\; or the experimental goth explosion of &quot\;Faith\, Torn Apart\,&quot\; all the songs in their own way build to a roiling boil of a fate in vanishing.<br />\n<br />\nThe calligraphy on the cover translates literally to &quot\;we forget.&quot\; It bows to the universality of everything and everyone&#39\;s inevitable decline and foggy disappearance. Regarding the album title\, Xiu Xiu singer Jamie Stewart said\, &ldquo\;To forget uncontrollably embraces the duality of human frailty. It is a rebirth in blanked out renewal but it also drowns and mutilates our attempt to hold on to what is dear.&rdquo\; FORGET is both the palliative fade out of a traumatic past but also the trampling pain of a beautiful one&#39\;s decay.<br />\n<br />\nXiu Xiu is Shayna Dunkelman\, Angela Seo and Jamie &quot\;Butch Jenny&quot\; Stewart
LOCATION:319 Vaughan St. Portsmouth\, NH
UID:e.1659.29793
SEQUENCE:3
DTSTAMP:20260421T131742Z
URL:https://business.portsmouthchamber.org/events/details/3s-artspace-presents-xiu-xiu-w-lilith-29793
END:VEVENT

END:VCALENDAR
