BEGIN:VCALENDAR
VERSION:2.0
PRODID:-//ChamberMaster//Event Calendar 2.0//EN
METHOD:PUBLISH
X-PUBLISHED-TTL:P3D
REFRESH-INTERVAL:P3D
CALSCALE:GREGORIAN
BEGIN:VEVENT
DTSTART:20161009T010000Z
DTEND:20161009T033000Z
X-MICROSOFT-CDO-ALLDAYEVENT:FALSE
SUMMARY:3S Artspace- RE WIND: "Neon Dreams" 80s/90s Blacklight Dance Party
DESCRIPTION:It's fall and the nights are getting longer\, so we are turning off the lights and turning up the volume! \n\n\n\nThe RE  WIND dance party returns with "NEON DREAMS\," an 80's/90's BLACKLIGHT Dance Party to benefit the ongoing operations at 3S Artspace. \n\n\n\nDJ James 808 from the RE  WIND "Just Can't Get Enough" 80's Dance Party and "As If ": A 90's Dance Party returns to bring you the best in retro dance music & culture. Expect to hear the classic tracks and remixes from the era's you love the most.\n\n\n\nRemember to glow your brightest! Neon & Retro attire is strongly encouraged but not required.  \n\n\n\nThe RE  WIND dance party series is committed to bringing you the best dance music from the past to the future. RE  WIND is brought to you in part by Seacoast Of Synth (A New Hampshire Synth and Retro-Wave Fan Page).
X-ALT-DESC;FMTTYPE=text/html:It&rsquo\;s fall and the nights are getting longer\, so we are turning off the lights and turning up the volume!&nbsp\;<br />\n<br />\nThe RE&#9664\;&#9664\;WIND dance party returns with &ldquo\;NEON DREAMS\,&quot\; an 80&rsquo\;s/90&rsquo\;s BLACKLIGHT Dance Party to benefit the ongoing operations at 3S Artspace.&nbsp\;<br />\n<br />\nDJ James 808 from the RE&#9664\;&#9664\;WIND &ldquo\;Just Can&rsquo\;t Get Enough&rdquo\; 80&rsquo\;s Dance Party and &ldquo\;As If &rdquo\;: A 90&rsquo\;s Dance Party returns to bring you the best in retro dance music &amp\; culture. Expect to hear the classic tracks and remixes from the era&rsquo\;s you love the most.<br />\n<br />\nRemember to glow your brightest! Neon &amp\; Retro attire is strongly encouraged but not required. &nbsp\;<br />\n<br />\nThe RE&#9664\;&#9664\;WIND dance party series is committed to bringing you the best dance music from the past to the future. RE&#9664\;&#9664\;WIND is brought to you in part by Seacoast Of Synth (A New Hampshire Synth and Retro-Wave Fan Page).
LOCATION:319 Vaughan St. Portsmouth\, NH 03801
UID:e.1659.25877
SEQUENCE:3
DTSTAMP:20260422T004146Z
URL:https://business.portsmouthchamber.org/events/details/3s-artspace-re-9664-9664-wind-neon-dreams-80s-90s-blacklight-dance-party-25877
END:VEVENT

END:VCALENDAR
