BEGIN:VCALENDAR
VERSION:2.0
PRODID:-//ChamberMaster//Event Calendar 2.0//EN
METHOD:PUBLISH
X-PUBLISHED-TTL:P3D
REFRESH-INTERVAL:P3D
CALSCALE:GREGORIAN
BEGIN:VEVENT
DTSTART:20161002T150000Z
DTEND:20161002T180000Z
X-MICROSOFT-CDO-ALLDAYEVENT:FALSE
SUMMARY:3S Artspace: Show Off Kick Off: A Day of Surrealist Poetry and Drawing for Friends and Family of All Ages
DESCRIPTION:Children\, family\, and friends are invited to come partake in artmaking Sunday\, October 2 from 11am-2pm.  Come create art and get a chance to share your vision and voice with the seacoast community.  Stop by 3S Artspace and join in on some surrealist games that tap into the imaginations of artists of all ages.  Turn another person's mistake into a happy accident or create an altered book poem.  \n\n\n\nFamilies are invited to come and go as they please\, so come at anytime between 11am and 2pm!\n\n\n\nThis art making event will be lead by artist educator Ashley Norman\, who has experience teaching art to kids 3-93.
X-ALT-DESC;FMTTYPE=text/html:Children\, family\, and friends are invited to come partake in artmaking Sunday\, October 2 from 11am-2pm. &nbsp\;Come create art and get a chance to share your vision and voice with the seacoast community. &nbsp\;Stop by 3S Artspace and join in on some surrealist games that tap into the imaginations of artists of all ages. &nbsp\;Turn another person&rsquo\;s mistake into a happy accident or create an altered book poem. &nbsp\;<br />\n<br />\nFamilies are invited to come and go as they please\, so come at anytime between 11am and 2pm!<br />\n<br />\nThis art making event will be lead by artist educator Ashley Norman\, who has experience teaching art to kids 3-93.
LOCATION:319 Vaughan St. Portsmouth\, NH 0380
UID:e.1659.25873
SEQUENCE:3
DTSTAMP:20260421T230013Z
URL:https://business.portsmouthchamber.org/events/details/3s-artspace-show-off-kick-off-a-day-of-surrealist-poetry-and-drawing-for-friends-and-family-of-all-ages-25873
END:VEVENT

END:VCALENDAR
