BEGIN:VCALENDAR
VERSION:2.0
PRODID:-//ChamberMaster//Event Calendar 2.0//EN
METHOD:PUBLISH
X-PUBLISHED-TTL:P3D
REFRESH-INTERVAL:P3D
CALSCALE:GREGORIAN
BEGIN:VEVENT
DTSTART:20161001T190000Z
DTEND:20161002T034500Z
X-MICROSOFT-CDO-ALLDAYEVENT:FALSE
SUMMARY:3S Artspce: Welcome East Moto Show
DESCRIPTION:Welcome East is a free\, community-based event that will provide an opportunity for motorcyclists in New England to showcase their bikes to an audience of like-minded motorists\, compete for awards and prizes from local shops\, and partake in general motorcycle camaraderie.\n\n\n\nThis is the event's third year\, following the success of last year's show which was hosted at Legends Billiards Portsmouth.  Over 100 motorcycles and their riders filled the pool hall with their decked out wheels and a lot of friendly chutzpa to entertain hundreds of spectators.\n\n\n\nPartners Port City Mopeds\, Papa Wolf Supply Co.\, and Iron and Air are pleased to bring the show to Portsmouth's prominent new arts and performance venue - 3S Artspace at 319 Vaughan Street.  This year's venue will afford the event more space for more motorcycles than ever\, food and drink services catered by Block Six\, motorcycle art from local artists on display in the art gallery\, and live music performances from local acts Harsh Armadillo and One Man Banned.\n\n\n\nMotorcyclists of all varieties are encouraged to submit applications for the entry for their motorbikes. The event coordinators are seeking all sorts of entries\, including mopeds\, scooters\, trikes\, motorcycles and other unworldly creations. Awards will be given for Best in Show\, Best Custom\, Best Moped\, Best Rat Bike and more.  Prizes will be donated by Iron and Air\, Janus Motorcycles\, Papa Wolf\, Port City Mopeds and others.  This year's sponsors include National Powersports\, Pabst Blue Ribbon\, Liberated Custom Screen Printing\, Deadbeat Customs\, Biltwell\, and Fortland Productions.
X-ALT-DESC;FMTTYPE=text/html:Welcome East is a free\, community-based event that will provide an opportunity for motorcyclists in New England to showcase their bikes to an audience of like-minded motorists\, compete for awards and prizes from local shops\, and partake in general motorcycle camaraderie.<br />\n<br />\nThis is the event&#39\;s third year\, following the success of last year&#39\;s show which was hosted at Legends Billiards Portsmouth. &nbsp\;Over 100 motorcycles and their riders filled the pool hall with their decked out wheels and a lot of friendly chutzpa to entertain hundreds of spectators.<br />\n<br />\nPartners Port City Mopeds\, Papa Wolf Supply Co.\, and Iron and Air are pleased to bring the show to Portsmouth&#39\;s prominent new arts and performance venue - 3S Artspace at 319 Vaughan Street. &nbsp\;This year&#39\;s venue will afford the event more space for more motorcycles than ever\, food and drink services catered by Block Six\, motorcycle art from local artists on display in the art gallery\, and live music performances from local acts Harsh Armadillo and One Man Banned.<br />\n<br />\nMotorcyclists of all varieties are encouraged to submit applications for the entry for their motorbikes. The event coordinators are seeking all sorts of entries\, including mopeds\, scooters\, trikes\, motorcycles and other unworldly creations. Awards will be given for Best in Show\, Best Custom\, Best Moped\, Best Rat Bike and more. &nbsp\;Prizes will be donated by Iron and Air\, Janus Motorcycles\, Papa Wolf\, Port City Mopeds and others. &nbsp\;This year&#39\;s sponsors include National Powersports\, Pabst Blue Ribbon\, Liberated Custom Screen Printing\, Deadbeat Customs\, Biltwell\, and Fortland Productions.&nbsp\;
LOCATION:319 Vaughan St. Portsmouth\, NH 03801
UID:e.1659.25872
SEQUENCE:3
DTSTAMP:20260422T004336Z
URL:https://business.portsmouthchamber.org/events/details/3s-artspce-welcome-east-moto-show-25872
END:VEVENT

END:VCALENDAR
