BEGIN:VCALENDAR
VERSION:2.0
PRODID:-//ChamberMaster//Event Calendar 2.0//EN
METHOD:PUBLISH
X-PUBLISHED-TTL:P3D
REFRESH-INTERVAL:P3D
CALSCALE:GREGORIAN
BEGIN:VEVENT
DTSTART:20141025T170000Z
DTEND:20141026T010000Z
X-MICROSOFT-CDO-ALLDAYEVENT:FALSE
SUMMARY:6th Annual NH Brew Fest
DESCRIPTION:Saturday\, October 25th\, the NH Brew Fest kicks off its 6th year in the back yard of Redhook Brewery on the Pease International Tradeport in Portsmouth\, NH. This popular fundraising event benefits the Prescott Park Arts Festival supported by the Master Brewers Association of America and WHEB's The Morning Buzz. For just $35 per ticket\, New Hampshire Brew Fest attendees have the chance to sample unlimited tastings of over 100 brews from more than 30 craft breweries from across the nation.\n\n \n\n"Brew Fest is the perfect way to end the season and it's no surprise the tickets sell out quickly year over year. There's such a dynamic collection of brewers with a generous array of their own unique craft brews\, folks are in for a real treat" says Executive Director Ben Anderson. "As always\, we're tremendously grateful to have the opportunity to work with Redhook Brewery\, The Master Brewers Association and with great sponsors like WHEB."\n\n \n\nNew Hampshire BrewFest offers a limited number of VIP tickets available for an hour long private session that will feature limited edition brews\, and a chance to meet with the brew masters from 12-1 pm. Many of the distinct craft brews that are offered during the VIP Session will not be available for Session 1 and 2. For the VIP ticket price of $45 (advance sale only)\, guests will gain entry to the exclusive VIP session plus\, the entirety of Session I from 1:00 pm until 4:00 pm. There is a second Sampling Session that runs from 6:00 pm until 9:00 pm. Designated drivers can purchase a discounted ticket for $15 in advance online\, or at the door.\n\n\n\nGeneral admission tickets are $35 in advance and include entry into the event\, a 5 oz souvenir sampler cup\, unlimited beer samples\, live music and entertainment. Ticket sales are available through www.brewnh.com. Attendees are encouraged to purchase their tickets soon\, as attendance is limited and this event always sell out.\n\n \n\nThe Master Brewers Association of America will present a host of brewing companies including: Allagash Brewing Co.\, Baxter Brewing Co.\, Beara Irish Brewing Co.\, Boston Beer Co.\, Brooklyn Brewing\, Earth Eagle Brewing\,  Elm City Brewing Co.\, Geary's Brewery\, Goose Island\, Great Rhythm Brewing Co.\, Harpoon Brewery\, Henniker Brewing Co.\, Jack's Abbey Brewing\, Kennebec River Brewery\, Kennebunkport Brewing\, Kona Brewing Co.\, Lagunitas Brewing\, Moat Mountain\, Narragansett Brewing\, Oskar Blues\, Portsmouth Brewery\, Redhook Brewery\, Sebago Brewing Co.\, 7th Settlement\, Shipyard Brewing Co.\, Smuttynose Brewing Co.\, Stoneface Brewing Co.\, Stone Brewing Co.\, Throwback Brewery\, Traveler Beer Co.\, Tributary Brewing\, Tuckerman Brewing\, Wachusett Brewing Co.\, Widmer Brothers (plus Omission)\, Woodstock Inn Brewery\, and more.\n\n\n\nPrescott Park Arts Festival\, a non-profit organization\, is the Seacoast's premier outdoor performing arts venue\, offering a uniquely accessible experience of high quality live theater and music -- no fixed admissions fees -- in an idyllic natural setting. \n\nFor more information contact Ben Anderson at (603)-436-2848 or info@prescottpark.org
X-ALT-DESC;FMTTYPE=text/html:<span style="color: rgb(80\, 80\, 80)\; font-family: &quot\;Arial&quot\;\,&quot\;sans-serif&quot\;\; font-size: 10.5pt\; mso-fareast-font-family: Calibri\; mso-fareast-theme-font: minor-latin\; mso-ansi-language: EN-US\; mso-fareast-language: EN-US\; mso-bidi-language: AR-SA\;">Saturday\, October 25<sup>th</sup>\, the NH Brew Fest kicks off its 6<sup>th</sup> year in the back yard of Redhook Brewery on the Pease International Tradeport in Portsmouth\, NH. This popular fundraising event benefits the Prescott Park Arts Festival supported by the Master Brewers Association of America and WHEB&#39\;s The Morning Buzz. For just $35 per ticket\, New Hampshire Brew Fest attendees have the chance to sample unlimited tastings of over 100 brews from more than 30 craft breweries from across the nation.<br />\n&nbsp\;<br />\n&ldquo\;Brew Fest is the perfect way to end the season and it&rsquo\;s no surprise the tickets sell out quickly year over year. There&rsquo\;s such a dynamic collection of brewers with a generous array of their own unique craft brews\, folks are in for a real treat&rdquo\; says Executive Director Ben Anderson. &ldquo\;As always\, we&rsquo\;re tremendously grateful to have the opportunity to work with Redhook Brewery\, The Master Brewers Association and with great sponsors like WHEB.&rdquo\;<br />\n&nbsp\;<br />\nNew Hampshire BrewFest offers a limited number of VIP tickets available for an hour long private session that will feature limited edition brews\, and a chance to meet with the brew masters from 12-1 pm. Many of the distinct craft brews that are offered during the VIP Session will not be available for Session 1 and 2. For the VIP ticket price of $45 (advance sale only)\, guests will gain entry to the exclusive VIP session plus\, the entirety of Session I from 1:00 pm until 4:00 pm. There is a second Sampling Session that runs from 6:00 pm until 9:00 pm. Designated drivers can purchase a discounted ticket for $15 in advance online\, or at the door.<br />\n<br />\nGeneral admission tickets are $35 in advance and include entry into the event\, a 5 oz souvenir sampler cup\, unlimited beer samples\, live music and entertainment. Ticket sales are available through <a href="http://prescottpark.us6.list-manage.com/track/click?u=56189841a0f917067e61b123b&amp\;id=dc23df8a4d&amp\;e=90a2fe293e"><span style="color: rgb(51\, 102\, 153)\;">www.brewnh.com</span></a>. Attendees are encouraged to purchase their tickets soon\, as attendance is limited and this event always sell out.<br />\n&nbsp\;<br />\nThe Master Brewers Association of America will present a host of brewing companies including: Allagash&nbsp\;Brewing&nbsp\;Co.\, Baxter Brewing Co.\, Beara Irish Brewing Co.\, Boston Beer Co.\, Brooklyn Brewing\, Earth Eagle Brewing\, &nbsp\;Elm City Brewing Co.\, Geary&rsquo\;s Brewery\, Goose Island\, Great Rhythm Brewing Co.\, Harpoon Brewery\, Henniker Brewing Co.\, Jack&rsquo\;s Abbey Brewing\, Kennebec River Brewery\, Kennebunkport Brewing\, Kona Brewing Co.\, Lagunitas Brewing\, Moat Mountain\, Narragansett Brewing\, Oskar Blues\, Portsmouth Brewery\, Redhook Brewery\, Sebago Brewing Co.\, 7<sup>th</sup> Settlement\, Shipyard Brewing Co.\, Smuttynose Brewing Co.\, Stoneface Brewing Co.\, Stone Brewing Co.\, Throwback Brewery\, Traveler Beer Co.\, Tributary Brewing\, Tuckerman Brewing\, Wachusett Brewing Co.\, Widmer Brothers (plus Omission)\, Woodstock Inn Brewery\, and more.<br />\n<br />\n<em><span style="font-family: &quot\;Arial&quot\;\,&quot\;sans-serif&quot\;\;">Prescott Park Arts Festival\, a non-profit organization\, is the Seacoast&rsquo\;s premier outdoor performing arts venue\, offering a uniquely accessible experience of high quality live theater and music -- no fixed admissions fees -- in an idyllic natural setting. </span></em><br />\n<em><span style="font-family: &quot\;Arial&quot\;\,&quot\;sans-serif&quot\;\;">For more information contact Ben Anderson at (603)-436-2848 or </span></em><a href="mailto:info@prescottpark.org"><em><span style="color: rgb(51\, 102\, 153)\; font-family: &quot\;Arial&quot\;\,&quot\;sans-serif&quot\;\;">info@prescottpark.org</span></em></a></span>
LOCATION:
UID:e.1659.3464
SEQUENCE:3
DTSTAMP:20260419T144134Z
URL:https://business.portsmouthchamber.org/events/details/6th-annual-nh-brew-fest-10-25-2014-3464
END:VEVENT

END:VCALENDAR
