BEGIN:VCALENDAR
VERSION:2.0
PRODID:-//ChamberMaster//Event Calendar 2.0//EN
METHOD:PUBLISH
X-PUBLISHED-TTL:P3D
REFRESH-INTERVAL:P3D
CALSCALE:GREGORIAN
BEGIN:VEVENT
DTSTART:20141115T210000Z
DTEND:20141116T003000Z
X-MICROSOFT-CDO-ALLDAYEVENT:FALSE
SUMMARY:6th Annual PizzaFest
DESCRIPTION:The Children's Museum of NH will host its 6th annual PizzaFest and Silent Auction on Saturday\, November 15 from 4:00   7:30 pm. This fun evening of pizza tasting and holiday gift shopping will raise funds for  the museum's family programming and school outreach . Guests are able to sample as much pizza as they want from local restaurants\, then vote for their favorites. There will also be a variety of Silent Auction items to bid on\, just in time for holiday gift-giving. Advance tickets are $10 for adults\, $7 for children ages 3-10\, and children under age 2 are free. If space allows\, tickets may be available at the door on the night of the event at $12 and $9 each. More information at www.childrens-museum.org.
X-ALT-DESC;FMTTYPE=text/html:<span style="font-family:gotham rounded book\;">The Children&rsquo\;s Museum of NH will host its 6<sup>th</sup> annual PizzaFest and Silent Auction on Saturday\, November 15 from 4:00 &ndash\; 7:30 pm. This fun evening of pizza tasting and holiday gift shopping will raise funds for &nbsp\;the museum&rsquo\;s family programming and school outreach . Guests are able to sample as much pizza as they want from local restaurants\, then vote for their favorites. There will also be a variety of Silent Auction items to bid on\, just in time for holiday gift-giving. </span><span style="font-family:gotham rounded book\;">Advance tickets are $10 for adults\, $7 for children ages 3-10\, and children under age 2 are free. If space allows\, tickets may be available at the door on the night of the event at $12 and $9 each. More information at www.childrens-museum.org.</span>
LOCATION:Children's Museum of NH\, 6 Washington Street\, Dover NH
UID:e.1659.3005
SEQUENCE:3
DTSTAMP:20260419T130848Z
URL:https://business.portsmouthchamber.org/events/details/6th-annual-pizzafest-11-15-2014-3005
END:VEVENT

END:VCALENDAR
