BEGIN:VCALENDAR
VERSION:2.0
PRODID:-//ChamberMaster//Event Calendar 2.0//EN
METHOD:PUBLISH
X-PUBLISHED-TTL:P3D
REFRESH-INTERVAL:P3D
CALSCALE:GREGORIAN
BEGIN:VEVENT
DTSTART:20140708T223000Z
DTEND:20140709T010000Z
X-MICROSOFT-CDO-ALLDAYEVENT:FALSE
SUMMARY:9th Annual Tropical Sunset Cruise
DESCRIPTION:Grab your flip flops and tropical shirt and join us for the Blue Ocean Society's 9th Annual Tropical Sunset Cruise.  Featuring DJ Ron Reid\, complimentary snacks\, cash bar\, silent auction\, raffle\, photo booth and more! Join us as we sail the smooth waters of the Piscataqua River in tropical fashion!
X-ALT-DESC;FMTTYPE=text/html:Grab your flip flops and tropical shirt and join us for the Blue Ocean Society&#39\;s 9th Annual Tropical Sunset Cruise. &nbsp\;Featuring DJ Ron Reid\, complimentary snacks\, cash bar\, silent auction\, raffle\, photo booth and more! Join us as we sail the smooth waters of the Piscataqua River in tropical fashion! &nbsp\; &nbsp\;
LOCATION:Aboard the M/V Thomas Laighton. Isles of Shoals Steamship Co. dock at 315 Market Street\, Portsmouth\, NH - Directly across from the Portsmouth Sheraton.
UID:e.1659.1629
SEQUENCE:3
DTSTAMP:20260419T185907Z
URL:https://business.portsmouthchamber.org/events/details/9th-annual-tropical-sunset-cruise-07-08-2014-1629
END:VEVENT

END:VCALENDAR
