BEGIN:VCALENDAR
VERSION:2.0
PRODID:-//ChamberMaster//Event Calendar 2.0//EN
METHOD:PUBLISH
X-PUBLISHED-TTL:P3D
REFRESH-INTERVAL:P3D
CALSCALE:GREGORIAN
BEGIN:VEVENT
DTSTART:20160103T010000Z
DTEND:20160103T030000Z
X-MICROSOFT-CDO-ALLDAYEVENT:FALSE
SUMMARY:Abrielle Scharff\, Sam Robbins and Max Grazier at Book & Bar
DESCRIPTION:Live music!
X-ALT-DESC;FMTTYPE=text/html:Live music!
LOCATION:Book & Bar 40 Pleasant Street\, Portsmouth
UID:e.1659.13390
SEQUENCE:3
DTSTAMP:20260420T114612Z
URL:https://business.portsmouthchamber.org/events/details/abrielle-scharff-sam-robbins-and-max-grazier-at-book-bar-01-02-2016-13390
END:VEVENT

END:VCALENDAR
