BEGIN:VCALENDAR
VERSION:2.0
PRODID:-//ChamberMaster//Event Calendar 2.0//EN
METHOD:PUBLISH
X-PUBLISHED-TTL:P3D
REFRESH-INTERVAL:P3D
CALSCALE:GREGORIAN
BEGIN:VEVENT
DTSTART:20160116T230000Z
DTEND:20160117T020000Z
X-MICROSOFT-CDO-ALLDAYEVENT:FALSE
SUMMARY:Acoustic Night with Mike Dunbar
DESCRIPTION:Join us for Acoustic Night with Mike Dunbar\, at Cafe Nostimo\, from 6-9pm\, Saturday January 16th.
X-ALT-DESC;FMTTYPE=text/html:Join us for Acoustic Night with Mike Dunbar\, at Cafe Nostimo\, from 6-9pm\, Saturday January 16th.&nbsp\;
LOCATION:72 Mirona Road Portsmouth\, NH
UID:e.1659.13344
SEQUENCE:3
DTSTAMP:20260420T115153Z
URL:https://business.portsmouthchamber.org/events/details/acoustic-night-with-mike-dunbar-01-16-2016-13344
END:VEVENT

END:VCALENDAR
