BEGIN:VCALENDAR
VERSION:2.0
PRODID:-//ChamberMaster//Event Calendar 2.0//EN
METHOD:PUBLISH
X-PUBLISHED-TTL:P3D
REFRESH-INTERVAL:P3D
CALSCALE:GREGORIAN
BEGIN:VEVENT
DTSTART:20140905T180000Z
DTEND:20140905T200000Z
X-MICROSOFT-CDO-ALLDAYEVENT:FALSE
SUMMARY:ACT ONE presents Ida?s Havin? A Yard Sale!
DESCRIPTION:Susan Poulin is back as the incomparable Ida LeClair\,  "the funniest woman in Maine!" Ida lives in Mahoosuc Mills with her husband Charlie and   are you ready for this - she's havin' a yard sale!  Ida will dazzle you with her budding knowledge of Feng Shui\, her conversion to catalogue shopping\, and her latest adventures with the Women Who Run With the Moose.  Just about everyone in Mahoosuc Mills is going to Ida's yard sale.  How about you?
X-ALT-DESC;FMTTYPE=text/html:<span style="font-family:times new roman\;">Susan Poulin is back as the incomparable Ida LeClair<strong>\, </strong>&nbsp\;&ldquo\;the funniest woman in Maine!&rdquo\;</span> <span style="font-family:times new roman\;">Ida lives in Mahoosuc Mills with her husband Charlie and &ndash\; <em>are you ready for this -</em> she&rsquo\;s havin&rsquo\; a yard sale!&nbsp\;</span> <span style="font-family:times new roman\;">Ida will dazzle you with her budding knowledge of Feng Shui\, her conversion to catalogue shopping\, and her latest adventures with the Women Who Run With the Moose.&nbsp\; Just about everyone in Mahoosuc Mills is going to Ida&rsquo\;s yard sale.&nbsp\; How about you?</span>
LOCATION:West End Studio Theatre\, 959 Islington Street
UID:e.1659.2247
SEQUENCE:3
DTSTAMP:20260419T161316Z
URL:https://business.portsmouthchamber.org/events/details/act-one-presents-ida-s-havin-a-yard-sale-09-05-2014-2247
END:VEVENT

END:VCALENDAR
