BEGIN:VCALENDAR
VERSION:2.0
PRODID:-//ChamberMaster//Event Calendar 2.0//EN
METHOD:PUBLISH
X-PUBLISHED-TTL:P3D
REFRESH-INTERVAL:P3D
CALSCALE:GREGORIAN
BEGIN:VEVENT
DTSTART:20140830T000000Z
DTEND:20140830T000000Z
X-MICROSOFT-CDO-ALLDAYEVENT:FALSE
SUMMARY:ACT ONE presents Last Train to Nibroc
DESCRIPTION:
X-ALT-DESC;FMTTYPE=text/html:
LOCATION:West End Studio Theatre\, 959 Islington Street
UID:e.1659.2240
SEQUENCE:3
DTSTAMP:20260419T174847Z
URL:https://business.portsmouthchamber.org/events/details/act-one-presents-last-train-to-nibroc-08-29-2014-2240
END:VEVENT

END:VCALENDAR
