BEGIN:VCALENDAR
VERSION:2.0
PRODID:-//ChamberMaster//Event Calendar 2.0//EN
METHOD:PUBLISH
X-PUBLISHED-TTL:P3D
REFRESH-INTERVAL:P3D
CALSCALE:GREGORIAN
BEGIN:VEVENT
DTSTART:20140809T180000Z
DTEND:20140809T180000Z
X-MICROSOFT-CDO-ALLDAYEVENT:FALSE
SUMMARY:ACT One presents Mending Fences
DESCRIPTION:Harry is a crusty\, down-on-his-luck rancher living way out in Saskatchewan.  When his estranged son shows up\, it's not clear if Drew is back to settle scores or heal old wounds.  It's gonna take a woman to knock some sense into these two\, and Harry's neighbor Gin is just the gal for the job. Actors Will MacDonald\, Kate Bossi\, and Mark Jacobsen bring this hilarious\, rough-and-ready comedy to life\, under the direction of Stephanie Voss Nugent
X-ALT-DESC;FMTTYPE=text/html:&nbsp\;<br />\n<span style="font-family:times new roman\;"><span style="font-size:12.0pt\;">Harry is a crusty\, down-on-his-luck rancher living way out in Saskatchewan.&nbsp\; When his estranged son shows up\, it&rsquo\;s not clear if Drew is back to settle scores or heal old wounds.&nbsp\; It&rsquo\;s gonna take a woman to knock some sense into these two\, and Harry&rsquo\;s neighbor Gin is just the gal for the job.</span></span> <span style="font-family:times new roman\;"><span style="font-size:12.0pt\;">Actors Will MacDonald\, Kate Bossi\, and Mark Jacobsen bring this hilarious\, rough-and-ready comedy to life\, under the direction of Stephanie Voss Nugent</span></span>
LOCATION:West End Studio Theatre\, 959 Islington Street
UID:e.1659.2233
SEQUENCE:3
DTSTAMP:20260419T174321Z
URL:https://business.portsmouthchamber.org/events/details/act-one-presents-mending-fences-08-09-2014-2233
END:VEVENT

END:VCALENDAR
