BEGIN:VCALENDAR
VERSION:2.0
PRODID:-//ChamberMaster//Event Calendar 2.0//EN
METHOD:PUBLISH
X-PUBLISHED-TTL:P3D
REFRESH-INTERVAL:P3D
CALSCALE:GREGORIAN
BEGIN:VEVENT
DTSTART:20140906T000000Z
DTEND:20140906T020000Z
X-MICROSOFT-CDO-ALLDAYEVENT:FALSE
SUMMARY:ACT ONE presents See Rock City
DESCRIPTION:It's 1944.  The newlyweds return from their honeymoon to find their world is changing faster than they expected.  As WWII draws to a close\, Raleigh and May are learning that life doesn't always go as planned\, but it does give you great stories to share with those you love.  Danielle Howard\, director of last year's stellar production of On Golden Pond\, directs See Rock City.  Carol Davenport and Tinka Finley join Catherine Colby and Conor Burke in this tender Nibroc sequel.
X-ALT-DESC;FMTTYPE=text/html:<span style="font-family:times new roman\;">It&rsquo\;s 1944.&nbsp\; The newlyweds return from their honeymoon to find their world is changing faster than they expected.&nbsp\; As WWII draws to a close\, Raleigh and May are learning that life doesn&rsquo\;t always go as planned\, but it does give you great stories to share with those you love.</span>&nbsp\; <span style="font-family:times new roman\;">Danielle Howard\, director of last year&rsquo\;s stellar production of <em>On Golden Pond</em>\, directs <em>See Rock City. &nbsp\;</em>Carol Davenport and Tinka Finley join Catherine Colby and Conor Burke in this tender <em>Nibroc</em> sequel.&nbsp\;</span>
LOCATION:West End Studio Theatre\, 959 Islington Street
UID:e.1659.2224
SEQUENCE:3
DTSTAMP:20260419T161842Z
URL:https://business.portsmouthchamber.org/events/details/act-one-presents-see-rock-city-09-05-2014-2224
END:VEVENT

END:VCALENDAR
