BEGIN:VCALENDAR
VERSION:2.0
PRODID:-//ChamberMaster//Event Calendar 2.0//EN
METHOD:PUBLISH
X-PUBLISHED-TTL:P3D
REFRESH-INTERVAL:P3D
CALSCALE:GREGORIAN
BEGIN:VEVENT
DTSTART:20160426T210000Z
DTEND:20160426T223000Z
X-MICROSOFT-CDO-ALLDAYEVENT:FALSE
SUMMARY:Adventure Raffle Drawing
DESCRIPTION:Tickets on Sale through April 26\n\nThe Children's Museum of New Hampshire's annual car raffle fundraiser is back and tickets are on sale now for only $100. We only sell 750 tickets so you have great odds of winning! The first place raffle winner can choose between a Nissan 370Z sports coupe valued at over $30\,000 or $20\,000 cash. The second place winner will win a custom African Safari for 4 (airfare not included) from A-Way-To Africa Safaris\, valued at $9\,000. To purchase tickets\, please call 603-742-2002 or visit www.childrens-museum.org for more information. Winners will be chosen at a free drawing event for all ticket holders on Tuesday\, April 26 from 5-6:30pm at Port City Nissan in Portsmouth. Winners do not have to be present to win.
X-ALT-DESC;FMTTYPE=text/html:<strong><span style="font-family:arial">Tickets on Sale through April 26</span></strong><br />\n<span style="font-family:arial">The Children&rsquo\;s Museum of New Hampshire&rsquo\;s annual car raffle fundraiser is back and tickets are on sale now for only $100. We only sell 750 tickets so you have great odds of winning! The first place raffle winner can choose between a Nissan 370Z sports coupe valued at over $30\,000 or $20\,000 cash. The second place winner will win a custom African Safari for 4 (airfare not included) from A-Way-To Africa Safaris\, valued at $9\,000. To purchase tickets\, please call 603-742-2002 or visit </span><a href="http://www.childrens-museum.org"><span style="font-family:arial">www.childrens-museum.org</span></a><span style="font-family:arial"> for more information. Winners will be chosen at a free drawing event for all ticket holders on Tuesday\, April 26 from 5-6:30pm at Port City Nissan in Portsmouth. Winners do not have to be present to win.</span>
LOCATION:Port City Nissan
UID:e.1659.19225
SEQUENCE:3
DTSTAMP:20260420T131047Z
URL:https://business.portsmouthchamber.org/events/details/adventure-raffle-drawing-04-26-2016-19225
END:VEVENT

END:VCALENDAR
