BEGIN:VCALENDAR
VERSION:2.0
PRODID:-//ChamberMaster//Event Calendar 2.0//EN
METHOD:PUBLISH
X-PUBLISHED-TTL:P3D
REFRESH-INTERVAL:P3D
CALSCALE:GREGORIAN
BEGIN:VEVENT
DTSTART:20140827T153000Z
DTEND:20140827T170000Z
X-MICROSOFT-CDO-ALLDAYEVENT:FALSE
SUMMARY:Advocating for your Student
DESCRIPTION:Join us August 27th at the Portsmouth Chamber of Commerce for our free workshop "Advocating for your Student: Let's Plan the 2014-2015 school year together." \n\nWhen you're students educational road map steers off course\, get it back on track can be frustrating and scary. What are your options? Who do you turn to in the schools? What can the schools off your student\, and how do you tap into the services available?\n\nJoin us at this workshop as we discuss the above questions and focus on planning out the coming year so that your student will stay on track!
X-ALT-DESC;FMTTYPE=text/html:Join us August 27th at the Portsmouth Chamber of Commerce for our free workshop &quot\;Advocating for your Student: Let&#39\;s Plan the 2014-2015 school year together.&quot\;&nbsp\;<br />\nWhen you&#39\;re students educational road map steers off course\, get it back on track can be frustrating and scary. What are your options? Who do you turn to in the schools? What can the schools off your student\, and how do you tap into the services available?<br />\nJoin us at this workshop as we discuss the above questions and focus on planning out the coming year so that your student will stay on track!
LOCATION:Greater Portsmouth Chamber of Commerce 500 Market Street Portsmouth\, NH 03801
UID:e.1659.2940
SEQUENCE:3
DTSTAMP:20260419T174143Z
URL:https://business.portsmouthchamber.org/events/details/advocating-for-your-student-08-27-2014-2940
END:VEVENT

END:VCALENDAR
