BEGIN:VCALENDAR
VERSION:2.0
PRODID:-//ChamberMaster//Event Calendar 2.0//EN
METHOD:PUBLISH
X-PUBLISHED-TTL:P3D
REFRESH-INTERVAL:P3D
CALSCALE:GREGORIAN
BEGIN:VEVENT
DTSTART:20251219T010000Z
DTEND:20251219T030000Z
X-MICROSOFT-CDO-ALLDAYEVENT:FALSE
SUMMARY:AIR-eoke Nite
DESCRIPTION:Get ready to belt it\, bop it\, or just beam from the crowd! Arts In Reach and Queereoke are teaming up for an all-welcoming night of fearless fun\, big laughs\, and creative community.\n\nSing solo\, duet with your bestie\, or start an impromptu boy band   whatever your vibe\, every voice belongs here.\n\nWe'll bring the snacks and seltzers\; you bring your sparkle (and BYOB if you're 21+).\n\nSuggested donation: $5 (or pay what you can)\n\nAll proceeds fuel our free\, inclusive arts mentorship programs for Seacoast youth.\n\n \n\nDoors open at 7:30 PM   Show starts at 8 PM\n\nAll ages
X-ALT-DESC;FMTTYPE=text/html:<p>Get ready to belt it\, bop it\, or just beam from the crowd! Arts In Reach and Queereoke are teaming up for an all-welcoming night of fearless fun\, big laughs\, and creative community.</p>\n\n<p>Sing solo\, duet with your bestie\, or start an impromptu boy band &mdash\; whatever your vibe\, every voice belongs here.</p>\n\n<p>We&rsquo\;ll bring the snacks and seltzers\; you bring your sparkle (and BYOB if you&rsquo\;re 21+).</p>\n\n<p>Suggested donation: $5 (or pay what you can)<br />\nAll proceeds fuel our free\, inclusive arts mentorship programs for Seacoast youth.</p>\n\n<p>&nbsp\;</p>\n\n<p>Doors open at 7:30 PM &bull\; Show starts at 8 PM</p>\n\n<p>All ages</p>\n
LOCATION:WSCA Radio 909 Islington St #1 Portsmouth\, NH
UID:e.1659.86889
SEQUENCE:3
DTSTAMP:20260423T201657Z
URL:https://business.portsmouthchamber.org/events/details/air-eoke-nite-86889
END:VEVENT

END:VCALENDAR
