BEGIN:VCALENDAR
VERSION:2.0
PRODID:-//ChamberMaster//Event Calendar 2.0//EN
METHOD:PUBLISH
X-PUBLISHED-TTL:P3D
REFRESH-INTERVAL:P3D
CALSCALE:GREGORIAN
BEGIN:VEVENT
DTSTART:20130828T220000Z
DTEND:20130829T000000Z
X-MICROSOFT-CDO-ALLDAYEVENT:FALSE
SUMMARY:Alex and Ani One Year Anniversary
DESCRIPTION:Experience the power of positive energy with Alex and Ani Portsmouth by celebrating their 1 year anniversary! Located at 104 Congress St. this event is open to the public and we encourage all to attend. This event will be catered by Chill Catering. 15% of all sales will go directly to Farm Aid\, enjoy lite bites & raffles. The first 20 people to arrive will receive a complimentary gift from Alex and Ani. RSVP to RSVP@alexandani.com! (not necessary but encouraged!)
X-ALT-DESC;FMTTYPE=text/html:Experience the power of positive energy with Alex and Ani Portsmouth by celebrating their 1 year anniversary! Located at 104 Congress St. this event is open to the public and we encourage all to attend. This event will be catered by Chill Catering. 15% of all sales will go directly to Farm Aid\, enjoy lite bites &amp\; raffles. The first 20 people to arrive will receive a complimentary gift from Alex and Ani. RSVP to RSVP@alexandani.com! (not necessary but encouraged!)
LOCATION:104 Congress St. Portsmouth\, NH
UID:e.1659.545
SEQUENCE:3
DTSTAMP:20260420T101616Z
URL:https://business.portsmouthchamber.org/events/details/alex-and-ani-one-year-anniversary-08-28-2013-545
END:VEVENT

END:VCALENDAR
