BEGIN:VCALENDAR
VERSION:2.0
PRODID:-//ChamberMaster//Event Calendar 2.0//EN
METHOD:PUBLISH
X-PUBLISHED-TTL:P3D
REFRESH-INTERVAL:P3D
CALSCALE:GREGORIAN
BEGIN:VEVENT
DTSTART:20150214T153000Z
DTEND:20150214T190000Z
X-MICROSOFT-CDO-ALLDAYEVENT:FALSE
SUMMARY:Alice in Wonderland Tea Party
DESCRIPTION:Decorate a Valentine treat\, enjoy tea or apple juice\, create Wonderland-inspired crafts\, listen to book readings and more\, hosted by a special guest from Alice in Wonderland.  Fancy and fanciful attire welcome!
X-ALT-DESC;FMTTYPE=text/html:Decorate a Valentine treat\, enjoy tea or apple juice\, create Wonderland-inspired crafts\, listen to book readings and more\, hosted by a special guest from Alice in Wonderland.&nbsp\; Fancy and fanciful attire welcome!
LOCATION:The Children's Museum of New Hampshire 6 Washington Street Dover\, NH 03820
UID:e.1659.3970
SEQUENCE:3
DTSTAMP:20260421T102822Z
URL:https://business.portsmouthchamber.org/events/details/alice-in-wonderland-tea-party-02-14-2015-3970
END:VEVENT

END:VCALENDAR
