BEGIN:VCALENDAR
VERSION:2.0
PRODID:-//ChamberMaster//Event Calendar 2.0//EN
METHOD:PUBLISH
X-PUBLISHED-TTL:P3D
REFRESH-INTERVAL:P3D
CALSCALE:GREGORIAN
BEGIN:VEVENT
DTSTART:20161012T123000Z
DTEND:20161012T133000Z
X-MICROSOFT-CDO-ALLDAYEVENT:FALSE
SUMMARY:Ambassador Meeting
DESCRIPTION:Monthly meeting of the Chamber's Ambassador Committee.  \n\n\n\nThe Ambassador Committee members proudly serve as the welcoming and retention team for the Chamber. You'll see us actively involved at Chamber member events\, visiting our business community\, and working with our new members through our mentor program.
X-ALT-DESC;FMTTYPE=text/html:Monthly meeting of the Chamber&#39\;s Ambassador Committee. &nbsp\;<br />\n<br />\nThe Ambassador Committee members proudly serve as the welcoming and retention team for the Chamber. You&rsquo\;ll see us actively involved at Chamber member events\, visiting our business community\, and working with our new members through our mentor program.
LOCATION:Greater Portsmouth Chamber of Commerce 500 Market Street Portsmouth\, NH
UID:e.1659.23618
SEQUENCE:3
DTSTAMP:20260421T224958Z
URL:https://business.portsmouthchamber.org/events/details/ambassador-meeting-10-12-2016-23618
END:VEVENT

END:VCALENDAR
