BEGIN:VCALENDAR
VERSION:2.0
PRODID:-//ChamberMaster//Event Calendar 2.0//EN
METHOD:PUBLISH
X-PUBLISHED-TTL:P3D
REFRESH-INTERVAL:P3D
CALSCALE:GREGORIAN
BEGIN:VEVENT
DTSTART:20260308T000000Z
DTEND:20260308T030000Z
X-MICROSOFT-CDO-ALLDAYEVENT:FALSE
SUMMARY:Last Pages\, Sorry Safari\, and Easy Tiger @ The Button Factory Stage – WSCA 106.1 (Hear & There)
DESCRIPTION:Saturday\, March 7 | Last Pages\, Sorry Safari\, and Easy Tiger\n\n\n\nTickets 15$ at the door/ 10$  HERE\n\n\n\nOn Saturday\, March 7\, WSCA presents a night of dynamic live music with three distinct and compelling acts: Last Pages\, Sorry Safari\, and Easy Tiger.\n\n\n\nLast Pages\n\nLast Pages are four grown-ass men who've collectively played in too many bands to list and have spent most of their conscious lives immersed in the punk rock and metal scenes. Through death\, birth\, war\, and love\, they have never stopped making music. Together as Last Pages\, they create unrestrained and uncategorized rock 'n' roll that reflects the world they find themselves in. For them\, independent musical creation is both a political statement and a spiritual act. These fuckin' guys bring raw energy and unfiltered creativity to every performance.\n\n\n\nSorry Safari\n\nSorry Safari is a high-energy rock act based in Portland\, Maine\, known for combining elements of '90s alternative rock with indie and pop-punk influences. They deliver fast-paced\, riff-driven songs that tap into the urgency and melodic sense of alternative and emo-tinged rock. With an active presence in the New England live music circuit and a catalog of original material\, Sorry Safari brings a fresh and engaging sound to every stage they play.\n\n\n\nEasy Tiger\n\nEasy Tiger is a four piece rock band from the seacoast of New Hampshire. They perform sonically formulated songs to help tame your tiger.\n\n\n\nJoin us for a night that spans unfiltered rock intensity\, alternative edge\, and indie depth.
X-ALT-DESC;FMTTYPE=text/html:Saturday\, March 7 | Last Pages\, Sorry Safari\, and Easy Tiger<br />\n<br />\nTickets 15$ at the door/ 10$&nbsp\; <a href="https://portsmouthnh.ticketsauce.com/e/last-pages-easy-tiger-and-sorry-safari" target="_blank">HERE</a><br />\n<br />\nOn Saturday\, March 7\, WSCA presents a night of dynamic live music with three distinct and compelling acts: Last Pages\, Sorry Safari\, and Easy Tiger.<br />\n<br />\nLast Pages<br />\nLast Pages are four grown-ass men who&rsquo\;ve collectively played in too many bands to list and have spent most of their conscious lives immersed in the punk rock and metal scenes. Through death\, birth\, war\, and love\, they have never stopped making music. Together as Last Pages\, they create unrestrained and uncategorized rock &rsquo\;n&rsquo\; roll that reflects the world they find themselves in. For them\, independent musical creation is both a political statement and a spiritual act. These fuckin&rsquo\; guys bring raw energy and unfiltered creativity to every performance.<br />\n<br />\nSorry Safari<br />\nSorry Safari is a high-energy rock act based in Portland\, Maine\, known for combining elements of &rsquo\;90s alternative rock with indie and pop-punk influences. They deliver fast-paced\, riff-driven songs that tap into the urgency and melodic sense of alternative and emo-tinged rock. With an active presence in the New England live music circuit and a catalog of original material\, Sorry Safari brings a fresh and engaging sound to every stage they play.<br />\n<br />\nEasy Tiger<br />\nEasy Tiger is a four piece rock band from the seacoast of New Hampshire. They perform sonically formulated songs to help tame your tiger.<br />\n<br />\nJoin us for a night that spans unfiltered rock intensity\, alternative edge\, and indie depth.
LOCATION:WSCA Button Factory Stage 909 Islington St #1\, Portsmouth\, NH
UID:e.1659.89320
SEQUENCE:3
DTSTAMP:20260423T053341Z
URL:https://business.portsmouthchamber.org/events/details/angry-hill-the-button-factory-stage-wsca-106-1-dydo-alliance-hear-there-89320
END:VEVENT

END:VCALENDAR
