BEGIN:VCALENDAR
VERSION:2.0
PRODID:-//ChamberMaster//Event Calendar 2.0//EN
METHOD:PUBLISH
X-PUBLISHED-TTL:P3D
REFRESH-INTERVAL:P3D
CALSCALE:GREGORIAN
BEGIN:VEVENT
DTSTART;VALUE=DATE:20141206
DTEND;VALUE=DATE:20141208
TRANSP:TRANSPARENT
X-MICROSOFT-CDO-ALLDAYEVENT:TRUE
SUMMARY:Annual Candlelight Stroll and Holiday House Tours
DESCRIPTION:Showcasing 350 years of seasonal and holiday traditions against the backdrop of the Museum's furnished historic houses. On these weekend evenings\, Strawbery Banke Museum grounds glow with hundreds of lighted candle lanterns\, the houses are adorned with thousands of hand-made decorations crafted from live greens and dried flowers and herbs collected from the Museum gardens\, and the air is filled with the sound of holiday music and scent of woodsmoke.
X-ALT-DESC;FMTTYPE=text/html:<span>Showcasing 350 years of seasonal and holiday traditions against the backdrop of the Museum&rsquo\;s furnished historic houses. On these weekend evenings\, Strawbery Banke Museum grounds glow with hundreds of lighted candle lanterns\, the houses are adorned with thousands of hand-made decorations crafted from live greens and dried flowers and herbs collected from the Museum gardens\, and the air is filled with the sound of holiday music and scent of woodsmoke.</span>
LOCATION:
UID:e.1659.2158
SEQUENCE:3
DTSTAMP:20260419T125834Z
URL:https://business.portsmouthchamber.org/events/details/annual-candlelight-stroll-and-holiday-house-tours-12-06-2014-2158
END:VEVENT

END:VCALENDAR
