BEGIN:VCALENDAR
VERSION:2.0
PRODID:-//ChamberMaster//Event Calendar 2.0//EN
METHOD:PUBLISH
X-PUBLISHED-TTL:P3D
REFRESH-INTERVAL:P3D
CALSCALE:GREGORIAN
BEGIN:VEVENT
DTSTART:20141116T000000Z
DTEND:20141116T040000Z
X-MICROSOFT-CDO-ALLDAYEVENT:FALSE
SUMMARY:Annual Gala at The Music Hall
DESCRIPTION:Join us for our annual Gala benefit\, a fundraiser for The Music Hall. Enjoy signature cocktails\, gourmet hors d'oeuvres\, music\, dancing and an auction!\n\n \nVIP LOUNGE\n\n6:30-8pm at the Loft\n\nThe Loft will be transformed into a prohibition-era speakeasy with live music\, amazing food\, and complimentary beverages.\n\n \n\nThe Gala Main Event\n\n7:30-11pm at the Historic Theater\n\nFood Stations Hosted by Local Restaurants   Live Band - Center Stage   Dancing on Stage   Festive Cocktail Attire\n\n \n\nOnline pre-auction\n\nStarting November 1\n\nOur online auction opens november 1 - trips\, sports tickets\, art\, and more will be up for bidding\, perfect for your holiday shopping!\n\nPlace your bids at: www.biddingforgood.com/themusichallgala
X-ALT-DESC;FMTTYPE=text/html:<span style="font-size: 14px\;">Join us for our annual Gala benefit\, a fundraiser for The Music Hall. Enjoy signature cocktails\, gourmet hors d&#39\;oeuvres\, music\, dancing and an auction!</span><br />\n&nbsp\;\n<h5><span style="font-size: 12px\;"><em>VIP LOUNGE</em></span></h5>\n\n<p><span style="font-size: 12px\;">6:30-8pm at the Loft<br />\nThe Loft will be transformed into a prohibition-era speakeasy with live music\, amazing food\, and complimentary beverages.</span><br />\n&nbsp\;</p>\n\n<h5><span style="font-size: 12px\;"><em>The Gala Main Event</em></span></h5>\n\n<p><span style="font-size: 12px\;">7:30-11pm at the Historic Theater<br />\nFood Stations Hosted by Local Restaurants &bull\; Live Band - <a href="http://www.centerstagetheband.com/" target="_blank"><font color="#0066cc">Center Stage</font></a> &bull\; Dancing on Stage &bull\; Festive Cocktail Attire</span><br />\n&nbsp\;</p>\n\n<h5><span style="font-size: 12px\;"><em>Online pre-auction</em></span></h5>\n\n<p><span style="font-size: 12px\;">Starting November 1<br />\nOur online auction opens november 1 - trips\, sports tickets\, art\, and more will be up for bidding\, perfect for your holiday shopping!<br />\nPlace your bids at: <a href="http://www.biddingforgood.com/themusichallgala" target="_blank"><font color="#0066cc">www.biddingforgood.com/themusichallgala</font></a></span></p>\n\n<h5>&nbsp\;</h5>\n
LOCATION:The Music Hall 28 Chestnut St. Portsmouth\, NH
UID:e.1659.1630
SEQUENCE:3
DTSTAMP:20260419T131215Z
URL:https://business.portsmouthchamber.org/events/details/annual-gala-at-the-music-hall-11-15-2014-1630
END:VEVENT

END:VCALENDAR
