BEGIN:VCALENDAR
VERSION:2.0
PRODID:-//ChamberMaster//Event Calendar 2.0//EN
METHOD:PUBLISH
X-PUBLISHED-TTL:P3D
REFRESH-INTERVAL:P3D
CALSCALE:GREGORIAN
BEGIN:VEVENT
DTSTART:20140613T130000Z
DTEND:20140707T010000Z
X-MICROSOFT-CDO-ALLDAYEVENT:FALSE
SUMMARY:Annual Hampton Beach Sand Sculpture Event
DESCRIPTION:150 tons of sand\, $15\,000 prize and illuminated night viewing. Hampton attracts the attention of millions of visitors to the sculptures and the fun begins on June 13th\, 2014 with viewing until July 6th. It is something you have to see in person to believe. Because Hampton has great world class sand sculpting and a whole lot more!
X-ALT-DESC;FMTTYPE=text/html:150 tons of sand\, $15\,000 prize and illuminated night viewing. Hampton attracts the attention of millions of visitors to the sculptures and the fun begins on June 13th\, 2014 with viewing until July 6th. It is something you have to see in person to believe. Because Hampton has great world class sand sculpting and a whole lot more!
LOCATION:
UID:e.1659.1858
SEQUENCE:3
DTSTAMP:20260419T202140Z
URL:https://business.portsmouthchamber.org/events/details/annual-hampton-beach-sand-sculpture-event-06-13-2014-1858
END:VEVENT

END:VCALENDAR
