BEGIN:VCALENDAR
VERSION:2.0
PRODID:-//ChamberMaster//Event Calendar 2.0//EN
METHOD:PUBLISH
X-PUBLISHED-TTL:P3D
REFRESH-INTERVAL:P3D
CALSCALE:GREGORIAN
BEGIN:VEVENT
DTSTART:20160301T230000Z
DTEND:20160302T020000Z
X-MICROSOFT-CDO-ALLDAYEVENT:FALSE
SUMMARY:Are You Ready to Start Your Own Business?
DESCRIPTION:Discuss the details of how to start or grow your business with experienced executives and obtain valuable tools and reference materials to assist you. This session will address the following: How much cash do you need? Where can you go to get it? The biggest myths about small-business start-ups. Marketing versus sales - are you ready to do both? How to assess your revenue potential. How to build your winning business plan. The best structure for your company - LLC\, sole proprietor or something else? Management skills that you must have. Avoiding tax or regulatory pitfalls. Thanks to the generous support of our sponsor\,TD Bank\, this workshop is free of charge. For more information or to reserve a seat\, call SCORE at 603-433-0575 or visit our website at seacoast.score.org.
X-ALT-DESC;FMTTYPE=text/html:Discuss the details of how to start or grow your business with experienced executives and obtain valuable tools and reference materials to assist you. This session will address the following: How much cash do you need? Where can you go to get it? The biggest myths about small-business start-ups. Marketing versus sales - are you ready to do both? How to assess your revenue potential. How to build your winning business plan. The best structure for your company - LLC\, sole proprietor or something else? Management skills that you must have. Avoiding tax or regulatory pitfalls. Thanks to the generous support of our sponsor\,TD Bank\, this workshop is free of charge. For more information or to reserve a seat\, call SCORE at 603-433-0575 or visit our website at seacoast.score.org.
LOCATION:SCORE Office 215 Commerce Way Suite 420 Portsmouth\, NH 03801
UID:e.1659.16737
SEQUENCE:3
DTSTAMP:20260420T150212Z
URL:https://business.portsmouthchamber.org/events/details/are-you-ready-to-start-your-own-business-03-01-2016-16737
END:VEVENT

END:VCALENDAR
