BEGIN:VCALENDAR
VERSION:2.0
PRODID:-//ChamberMaster//Event Calendar 2.0//EN
METHOD:PUBLISH
X-PUBLISHED-TTL:P3D
REFRESH-INTERVAL:P3D
CALSCALE:GREGORIAN
BEGIN:VEVENT
DTSTART:20251213T193000Z
DTEND:20251213T203000Z
X-MICROSOFT-CDO-ALLDAYEVENT:FALSE
SUMMARY:Artist Visit: Taintor-the-Painter
DESCRIPTION:Visit the Children's Museum of New Hampshire today during the afternoon play session\, 1 4pm\, and meet one of our Gallery 6 artists\, Taintor-the-Painter\, at 2:30pm. Taintor will share the wonders of the circle as an important geometric shape and as a significant metaphor. Engage in making something colorful and fun with a variety of circle inspired hands-on activities and one\, two\, or more group collaborations. No experience necessary and perfect for all ages. The fun is included with museum admission and free for Members. Taintor's work is currently on view in the museum's Gallery 6 "Stroll the Rainbow" art exhibition.
X-ALT-DESC;FMTTYPE=text/html:<span style="font-family:arial\,sans-serif\; font-size:12pt">Visit the Children&rsquo\;s Museum of New Hampshire today during the afternoon play session\, 1&ndash\;4pm\, and meet one of our Gallery 6 artists\, Taintor-the-Painter\, at 2:30pm. Taintor will share the wonders of the circle as an important geometric shape and as a significant metaphor. Engage in making something colorful and fun with a variety of circle inspired hands-on activities and one\, two\, or more group collaborations. No experience necessary and perfect for all ages. The fun is included with museum admission and free for Members. Taintor&rsquo\;s work is currently on view in the museum&rsquo\;s Gallery 6 &ldquo\;Stroll the Rainbow&rdquo\; art exhibition. </span>
LOCATION:The Children's Museum of New Hampshire 6 Washington Street Dover\, NH 03820
UID:e.1659.86970
SEQUENCE:3
DTSTAMP:20260423T150806Z
URL:https://business.portsmouthchamber.org/events/details/artist-visit-taintor-the-painter-86970
END:VEVENT

END:VCALENDAR
