BEGIN:VCALENDAR
VERSION:2.0
PRODID:-//ChamberMaster//Event Calendar 2.0//EN
METHOD:PUBLISH
X-PUBLISHED-TTL:P3D
REFRESH-INTERVAL:P3D
CALSCALE:GREGORIAN
BEGIN:VEVENT
DTSTART;VALUE=DATE:20161007
DTEND;VALUE=DATE:20161010
TRANSP:TRANSPARENT
X-MICROSOFT-CDO-ALLDAYEVENT:TRUE
SUMMARY:Arts in Reach presents Tablescapes Around the World 2016
DESCRIPTION:TABLESCAPES\, an Arts In Reach (AIR) fundraising event\, brings New England's top designers to the table\, literally\, to transform the ordinary into something beautifully artistic.  2016 marks the event's fourth year featuring upscale designs for dining tables and workshops on food\, design\, and entertaining.\n\n\n\nGet ready! Our 2016 Tablescapes designers will take you on a journey to exotic locations around the world.  Designers are encouraged to stretch their imagination and go over the top!\n\n\n\nOur 2016 Designers: \n\nSara Simpson & Ann Marie Waterhouse of Alice + Bird Interiors with Mikayla Parsons of tayla Mac Boutique\, [USA]\n\nAndrea Ardito\, Missy Wilich\, and Lisa Groux [Ireland]\n\nAstrid Ortiz of the Kidz Wishing Well [Columbia]\n\nBetsy Scott of the Flower Kiosk with Jayne Ballard\, [Netherlands]\n\nJane "Cubby" Derby of J. Covington Interior Design\, LLC [China]\n\nCynthia Clark of Cynthia Clark Interiors\, [Thailand]\n\nDana Markos of Dana Markos Events\, [Monaco]\n\nKate Malloy of Chris Malloy Events\, [England]\n\nMichele Wiggs of Divine Inspirations [Morocco]\n\nEmmett Soldati of Teatotaller Tea House\, [Indonesia]\n\nGlicka Kaplan [China/Mahjong]\n\nLisa Teague of Lisa Teague Design Studios with Kristen B. Ward of Wanderbird Floral [East Africa\, Kenya\, TZ] \n\nMichael Englehardt of Ethan Allen Home Interiors [Scotland]\n\nRebecca Moore of The Flower Room\, and Nancy Philbrick of Pearl's Home and Garden [Lithuania]\n\nPortsmouth Music and Arts Center [Germany]\n\nMeghan Johnson and Samantha Jewell of Vintage in the Barn [Italy]\n\nTeri Osborne of Ten Thousand Villages  with Jardiniere Flowers [India]
X-ALT-DESC;FMTTYPE=text/html:<strong>TABLESCAPES\,</strong> an Arts In Reach (AIR) fundraising event\, brings New England&rsquo\;s top designers to the table\, literally\, to transform the ordinary into something beautifully artistic. &nbsp\;2016 marks the event&rsquo\;s fourth year featuring upscale designs for dining tables and workshops on food\, design\, and entertaining.<br />\n<br />\nGet ready! Our 2016 Tablescapes designers will take you on a journey to exotic locations around the world. &nbsp\;Designers are encouraged to stretch their imagination and go over the top!<br />\n<br />\n<strong>Our 2016 Designers:&nbsp\;</strong><br />\nSara Simpson &amp\; Ann Marie Waterhouse of Alice + Bird Interiors with Mikayla Parsons of tayla Mac Boutique\, [USA]<br />\nAndrea Ardito\, Missy Wilich\, and Lisa Groux [Ireland]<br />\nAstrid Ortiz of the Kidz Wishing Well [Columbia]<br />\nBetsy Scott of the Flower Kiosk with Jayne Ballard\, [Netherlands]<br />\nJane &ldquo\;Cubby&rdquo\; Derby of J. Covington Interior Design\, LLC [China]<br />\nCynthia Clark of Cynthia Clark Interiors\, [Thailand]<br />\nDana Markos of Dana Markos Events\, [Monaco]<br />\nKate Malloy of Chris Malloy Events\, [England]<br />\nMichele Wiggs of Divine Inspirations [Morocco]<br />\nEmmett Soldati of Teatotaller Tea House\, [Indonesia]<br />\nGlicka Kaplan [China/Mahjong]<br />\nLisa Teague of Lisa Teague Design Studios with Kristen B. Ward of Wanderbird Floral [East Africa\, Kenya\, TZ]&nbsp\;<br />\nMichael Englehardt of Ethan Allen Home Interiors [Scotland]<br />\nRebecca Moore of The Flower Room\, and Nancy Philbrick of Pearl&rsquo\;s Home and Garden [Lithuania]<br />\nPortsmouth Music and Arts Center [Germany]<br />\nMeghan Johnson and Samantha Jewell of Vintage in the Barn [Italy]<br />\nTeri Osborne of Ten Thousand Villages &nbsp\;with Jardiniere Flowers [India]
LOCATION:Discover Portsmouth Center 10 Middle Street\, Portsmouth\, NH
UID:e.1659.25871
SEQUENCE:3
DTSTAMP:20260421T225428Z
URL:https://business.portsmouthchamber.org/events/details/arts-in-reach-presents-tablescapes-around-the-world-2016-25871
END:VEVENT

END:VCALENDAR
