BEGIN:VCALENDAR
VERSION:2.0
PRODID:-//ChamberMaster//Event Calendar 2.0//EN
METHOD:PUBLISH
X-PUBLISHED-TTL:P3D
REFRESH-INTERVAL:P3D
CALSCALE:GREGORIAN
BEGIN:VEVENT
DTSTART:20160310T223000Z
DTEND:20160311T003000Z
X-MICROSOFT-CDO-ALLDAYEVENT:FALSE
SUMMARY:ASK Event for Habitat for Humanity
DESCRIPTION:Please join SENH Habitat for Humanity for our Annual ASK Event. Meet the families and hear our stories. Enjoy delectable food & wine. Make a bigger impact this year with your donation through our Building Bucks for Building Houses Match Challenge. Your donation will be matched dollar for dollar by anonymous donors
X-ALT-DESC;FMTTYPE=text/html:Please join SENH Habitat for Humanity for our Annual ASK Event. Meet the families and hear our stories. Enjoy delectable food &amp\; wine. Make a bigger impact this year with your donation through our Building Bucks for Building Houses Match Challenge. Your donation will be matched dollar for dollar by anonymous donors
LOCATION:The One Hundred Club 100 Market St # 500 Portsmouth\, NH 03801
UID:e.1659.16733
SEQUENCE:3
DTSTAMP:20260420T145641Z
URL:https://business.portsmouthchamber.org/events/details/ask-event-for-habitat-for-humanity-03-10-2016-16733
END:VEVENT

END:VCALENDAR
