BEGIN:VCALENDAR
VERSION:2.0
PRODID:-//ChamberMaster//Event Calendar 2.0//EN
METHOD:PUBLISH
X-PUBLISHED-TTL:P3D
REFRESH-INTERVAL:P3D
CALSCALE:GREGORIAN
BEGIN:VEVENT
DTSTART:20161112T150000Z
DTEND:20161112T190000Z
X-MICROSOFT-CDO-ALLDAYEVENT:FALSE
SUMMARY:At Strawbery Banke Museum view the Friends in Action Photo Exhibit: My View
DESCRIPTION:Courtney Bent\, award winning photographer and filmmaker from Durham\, created Shooting Beauty\, a community outreach initiative that provides programs aimed at challenging stereotypes that prevent inclusive attitudes and inclusive communities. The 100 Cameras Project places modified camera systems into the hands of people with developmental disabilities throughout the country. Friends in Action\, a local nonprofit that creates inclusive social and recreational opportunities for people with developmental disabilities\, is the last site. The project allows people with disabilities to develop their own personal voices through photography. The exhibit celebrates the accomplishments of fifteen local photographers with intent of providing personal confidence and empowerment
X-ALT-DESC;FMTTYPE=text/html:Courtney Bent\, award winning photographer and filmmaker from Durham\, created Shooting Beauty\, a community outreach initiative that provides programs aimed at challenging stereotypes that prevent inclusive attitudes and inclusive communities. The 100 Cameras Project places modified camera systems into the hands of people with developmental disabilities throughout the country. Friends in Action\, a local nonprofit that creates inclusive social and recreational opportunities for people with developmental disabilities\, is the last site. The project allows people with disabilities to develop their own personal voices through photography. The exhibit celebrates the accomplishments of fifteen local photographers with intent of providing personal confidence and empowerment
LOCATION:Strawbery Banke Museum at the TYCO Visitor Center Lecture Hall 14 Hancok St.\, Portsmouth
UID:e.1659.27637
SEQUENCE:3
DTSTAMP:20260421T225725Z
URL:https://business.portsmouthchamber.org/events/details/at-strawbery-banke-museum-view-the-friends-in-action-photo-exhibit-my-view-11-12-2016-27637
END:VEVENT

END:VCALENDAR
